BEGIN:VCALENDAR
VERSION:2.0
PRODID:-//ChamberMaster//Event Calendar 2.0//EN
METHOD:PUBLISH
X-PUBLISHED-TTL:P3D
REFRESH-INTERVAL:P3D
CALSCALE:GREGORIAN
BEGIN:VEVENT
DTSTART:20230427T133000Z
DTEND:20230427T143000Z
X-MICROSOFT-CDO-ALLDAYEVENT:FALSE
SUMMARY:Real Estate Coffee Group
DESCRIPTION:Visit this ever-growing Real Estate Coffee group hosted by Trinh Le\, former real estate writer and now ambassador of SERVPRO of Rockville-Olney. The group meets every third or fourth Thursday of each month at various venues\, usually hosted by a fellow member who provides coffee & refreshments. The group includes real estate & related professionals including mortgage lenders\, bankers\, insurance brokers\, property managers\, and restoration services.
X-ALT-DESC;FMTTYPE=text/html:<span style="color: rgb(34\, 34\, 34)\; font-family: Arial\, Helvetica\, sans-serif\; font-size: small\;">Visit this ever-growing Real Estate Coffee group hosted by Trinh Le\, former real estate writer and now ambassador of SERVPRO of Rockville-Olney. The group meets every third or fourth Thursday of each month at various venues\, usually hosted by a fellow member who provides coffee &amp\; refreshments. The group includes real estate &amp\; related professionals including mortgage lenders\, bankers\, insurance brokers\, property managers\, and restoration services.</span>
LOCATION:SERVPRO of Rockville - Olney 850 E Gude Drive\, Suite H
UID:e.797.16943
SEQUENCE:3
DTSTAMP:20260422T105049Z
URL:https://business.rockvillechamber.org/events/details/real-estate-coffee-group-16943
END:VEVENT

END:VCALENDAR
