BEGIN:VCALENDAR
VERSION:2.0
PRODID:-//ChamberMaster//Event Calendar 2.0//EN
METHOD:PUBLISH
X-PUBLISHED-TTL:P3D
REFRESH-INTERVAL:P3D
CALSCALE:GREGORIAN
BEGIN:VEVENT
DTSTART:20230525T133000Z
DTEND:20230525T143000Z
X-MICROSOFT-CDO-ALLDAYEVENT:FALSE
SUMMARY:Real Estate Coffee Group
DESCRIPTION:This month's Real Estate Coffee Group is Thursday\, May 25\, at 9:30 AM at RE/MAX Realty Centre in Olney\, 3300 Olney-Sandy Spring Rd. Come network with real estate & related professionals and enjoy coffee & refreshments.\n\n\n\nDiscussions will include 'Decluttering' and 'Downsizing.'\n\n\n\nReach out to Trinh@servpro5186.com for an invite!
X-ALT-DESC;FMTTYPE=text/html:<span style="caret-color: rgb(34\, 34\, 34)\; color: rgb(34\, 34\, 34)\; font-family: Arial\, Helvetica\, sans-serif\; font-size: small\;">This month&rsquo\;s <strong>Real Estate Coffee Group</strong> is Thursday\, May 25\, at 9:30 AM at RE/MAX Realty Centre in Olney\, 3300 Olney-Sandy Spring Rd. Come network with real estate &amp\; related professionals and enjoy coffee &amp\; refreshments.<br />\n<br />\nDiscussions will include &lsquo\;Decluttering&rsquo\; and &lsquo\;Downsizing.&rsquo\;<br />\n<br />\nReach out to&nbsp\;</span><a href="mailto:Trinh@servpro5186.com" style="color: rgb(17\, 85\, 204)\; font-family: Arial\, Helvetica\, sans-serif\;" target="_blank">Trinh@servpro5186.com</a><span style="caret-color: rgb(34\, 34\, 34)\; color: rgb(34\, 34\, 34)\; font-family: Arial\, Helvetica\, sans-serif\; font-size: small\;">&nbsp\;for an invite!</span>
LOCATION:RE/MAX Realty Centre in Olney 3300 Olney-Sandy Spring Rd
UID:e.797.16954
SEQUENCE:3
DTSTAMP:20260422T090421Z
URL:https://business.rockvillechamber.org/events/details/real-estate-coffee-group-05-25-2023-16954
END:VEVENT

END:VCALENDAR
