BEGIN:VCALENDAR
VERSION:2.0
PRODID:-//ChamberMaster//Event Calendar 2.0//EN
METHOD:PUBLISH
X-PUBLISHED-TTL:P3D
REFRESH-INTERVAL:P3D
CALSCALE:GREGORIAN
BEGIN:VEVENT
DTSTART:20230928T133000Z
DTEND:20230928T143000Z
X-MICROSOFT-CDO-ALLDAYEVENT:FALSE
SUMMARY:Real Estate Coffee
DESCRIPTION:Real Estate Coffee\, hosted by SERVPRO of Rockville-Olney's Trinh Le\, meets on the third or fourth Thursday of each month at 9:30AM. Locations vary so visit here monthly for venue and featured speaker. Reach out to Trinh@servpro5186.com for more info or to RSVP.\n\n \n\nThe informal group is made up of real estate & related professionals including mortgage lenders\, bankers and trade services including home improvements and water & fire damage restoration.\n\n\n\nTrinh Le and new GRCC member Daniel Carrero of House to Home Solutions\, LLC will co-host the Real Estate Coffee group Thursday\, Sept. 28\, 9:30AM\, at House to Home Solutions studio\, 15745 Crabbs Branch Way\, Rockville\, MD 20855. RSVP to Trinh@servpro5186.com
X-ALT-DESC;FMTTYPE=text/html:<span style="font-size:14px\;"><span style="font-family:arial\;">Real Estate Coffee\, hosted by SERVPRO of Rockville-Olney&rsquo\;s Trinh Le\, meets on the third or fourth Thursday of each month at 9:30AM. Locations vary so visit here monthly for venue and featured speaker. Reach out to&nbsp\;<a href="mailto:Trinh@servpro5186.com" style="color:rgb(17\, 85\, 204)\;" target="_blank">Trinh@servpro5186.com</a>&nbsp\;for more info or to RSVP.<br />\n&nbsp\;<br />\nThe informal group is made up of real estate &amp\; related professionals including mortgage lenders\, bankers and trade services including home improvements and water &amp\; fire damage restoration.<br />\n<br />\nTrinh Le and new GRCC member Daniel Carrero of House to Home Solutions\, LLC will co-host the Real Estate Coffee group Thursday\, Sept. 28\, 9:30AM\, at House to Home Solutions studio\, 15745 Crabbs Branch Way\, Rockville\, MD 20855. RSVP to&nbsp\;<a href="mailto:Trinh@servpro5186.com" style="color: rgb(17\, 85\, 204)\; font-family: Arial\, Helvetica\, sans-serif\; font-size: 18.6667px\;" target="_blank">Trinh@servpro5186.com</a></span></span>
LOCATION:House to Home Solutions Studio 15745 Crabbs Branch Way Rockville\, MD 20855
UID:e.797.18829
SEQUENCE:3
DTSTAMP:20260422T162449Z
URL:https://business.rockvillechamber.org/events/details/real-estate-coffee-18829
END:VEVENT

END:VCALENDAR
