BEGIN:VCALENDAR
VERSION:2.0
PRODID:-//ChamberMaster//Event Calendar 2.0//EN
METHOD:PUBLISH
X-PUBLISHED-TTL:P3D
REFRESH-INTERVAL:P3D
CALSCALE:GREGORIAN
BEGIN:VEVENT
DTSTART:20230727T133000Z
DTEND:20230727T143000Z
X-MICROSOFT-CDO-ALLDAYEVENT:FALSE
SUMMARY:Real Estate Coffee
DESCRIPTION:Real Estate Coffee meets Thursday\, July 27\, 9:30AM\, at Education-One Rockville\, located in Travilah Square Shopping Center\, 10034 Darnestown Rd. Rockville (in the Trader Joe's center). Our new friend in the group\, Susie Kim\, has offered to host us. The group   made up of real estate agents\, mortgage lenders\, bankers\, insurance carriers\, homebuilders\, a radon inspector\, restoration\, etc     meets monthly at various venues. Email Trinh@servpro5186.com to RSVP.
X-ALT-DESC;FMTTYPE=text/html:Real Estate Coffee meets Thursday\, July 27\, 9:30AM\, at Education-One Rockville\, located in Travilah Square Shopping Center\, 10034 Darnestown Rd. Rockville (in the Trader Joe&rsquo\;s center). Our new friend in the group\, Susie Kim\, has offered to host us. The group &ndash\; made up of real estate agents\, mortgage lenders\, bankers\, insurance carriers\, homebuilders\, a radon inspector\, restoration\, etc&hellip\; &nbsp\;&ndash\; meets monthly at various venues. Email&nbsp\;<a href="mailto:Trinh@servpro5186.com" style="color:rgb(17\, 85\, 204)\;" target="_blank">Trinh@servpro5186.com</a>&nbsp\;to RSVP.
LOCATION:Education-One Rockville 10034 Darnestown Rd. Rockville\, MD
UID:e.797.16996
SEQUENCE:3
DTSTAMP:20260422T122625Z
URL:https://business.rockvillechamber.org/events/details/real-estate-coffee-16996
END:VEVENT

END:VCALENDAR
