BEGIN:VCALENDAR
VERSION:2.0
PRODID:-//ChamberMaster//Event Calendar 2.0//EN
METHOD:PUBLISH
X-PUBLISHED-TTL:P3D
REFRESH-INTERVAL:P3D
CALSCALE:GREGORIAN
BEGIN:VEVENT
DTSTART:20230615T133000Z
DTEND:20230616T023000Z
X-MICROSOFT-CDO-ALLDAYEVENT:FALSE
SUMMARY:Real Estate Coffee
DESCRIPTION:Real Estate Coffee group meets Thursday\, June 15\, 9:30AM\, at Best Western Premier Hotel\, 1251 W. Montgomery Ave\, Route 28\, Rockville. The group\, moderated by Trinh Le\, draws real estate and related professionals including mortgage lenders\, bankers\, insurance agents and much more. Email Trinh@servpro5186.com to rsvp.
X-ALT-DESC;FMTTYPE=text/html:<span style="color: rgb(34\, 34\, 34)\; font-family: Arial\, Helvetica\, sans-serif\; font-size: small\;">Real Estate Coffee group meets Thursday\,&nbsp\;</span><b style="color: rgb(34\, 34\, 34)\; font-family: Arial\, Helvetica\, sans-serif\; font-size: small\;">June 15\, 9:30AM</b><span style="color: rgb(34\, 34\, 34)\; font-family: Arial\, Helvetica\, sans-serif\; font-size: small\;">\, at Best Western Premier Hotel\, 1251 W. Montgomery Ave\, Route 28\, Rockville. The group\, moderated by Trinh Le\, draws real estate and related professionals including mortgage lenders\, bankers\, insurance agents and much more. Email&nbsp\;</span><a href="mailto:Trinh@servpro5186.com" style="color: rgb(17\, 85\, 204)\; font-family: Arial\, Helvetica\, sans-serif\; font-size: small\;" target="_blank">Trinh@servpro5186.com</a><span style="color: rgb(34\, 34\, 34)\; font-family: Arial\, Helvetica\, sans-serif\; font-size: small\;">&nbsp\;to rsvp.</span>
LOCATION:Best Western Premier Hotel 1251 W Montgomery Ave Rte 28 Rockville\, MD
UID:e.797.16956
SEQUENCE:3
DTSTAMP:20260422T105207Z
URL:https://business.rockvillechamber.org/events/details/real-estate-coffee-16956
END:VEVENT

END:VCALENDAR
