BEGIN:VCALENDAR
VERSION:2.0
PRODID:-//ChamberMaster//Event Calendar 2.0//EN
METHOD:PUBLISH
X-PUBLISHED-TTL:P3D
REFRESH-INTERVAL:P3D
CALSCALE:GREGORIAN
BEGIN:VEVENT
DTSTART:20220608T153000Z
DTEND:20220608T170000Z
X-MICROSOFT-CDO-ALLDAYEVENT:FALSE
SUMMARY:Public Safety Awards
DESCRIPTION:EVENT IS SOLD OUT CALL TO BE PLACED ON STANDBY\n\nNow in its 33rd year\, The Rockville Public Safety Awards program\, in cooperation with the City of Rockville and the Rockville Chamber of Commerce\, honors members of the Rockville City Police Department\, the Montgomery County Sheriff's Office\, the Montgomery County Department of Corrections and Rehabilitation and the Rockville Volunteer Fire Department.\n\n \n\nThe purpose of the program is to recognize outstanding achievements by the members of these public safety agencies based in the City of Rockville.  Civilians who have rendered extraordinary service in the area of public safety might also be recognized. All of us have benefited by the fine service we receive from our public safety agencies.  This year the awards will be presented in person again at the Lakewood Country Club on Wednesday\, June 8th at 11:30am.
X-ALT-DESC;FMTTYPE=text/html:<span style="font-size:18px\;"><strong>EVENT IS SOLD OUT CALL TO BE PLACED ON STANDBY</strong></span><br />\nNow in its 33<sup>rd</sup> year\, The Rockville Public Safety Awards program\, in cooperation with the City of Rockville and the Rockville Chamber of Commerce\, honors members of the Rockville City Police Department\, the Montgomery County Sheriff&#39\;s Office\, the Montgomery County Department of Corrections and Rehabilitation and the Rockville Volunteer Fire Department.<br />\n&nbsp\;<br />\n<span style="font-family:calibri\,sans-serif\;"><span style="font-size:12.0pt\;">The purpose of the program is to recognize outstanding achievements by the members of these public safety agencies based in the City of Rockville.&nbsp\; Civilians who have rendered extraordinary service in the area of public safety might also be recognized. All of us have benefited by the fine service we receive from our public safety agencies.&nbsp\; This year the awards will be presented in person again at the Lakewood Country Club on Wednesday\, June 8th at 11:30am.</span></span>
LOCATION:Lakewood Country Club 13901 Glen Mill Rd\, Rockville\, MD 20850
UID:e.797.16010
SEQUENCE:3
DTSTAMP:20260423T154257Z
URL:https://business.rockvillechamber.org/events/details/public-safety-awards-16010
END:VEVENT

END:VCALENDAR
