BEGIN:VCALENDAR
VERSION:2.0
PRODID:-//ChamberMaster//Event Calendar 2.0//EN
METHOD:PUBLISH
X-PUBLISHED-TTL:P3D
REFRESH-INTERVAL:P3D
CALSCALE:GREGORIAN
BEGIN:VEVENT
DTSTART:20250218T220000Z
DTEND:20250219T000000Z
X-MICROSOFT-CDO-ALLDAYEVENT:FALSE
SUMMARY:Prospective Member Invitation Only Happy Hour
DESCRIPTION:If you are interested in learning more about the GRCC and would like to attend this happy hour\, please contact Connie.
X-ALT-DESC;FMTTYPE=text/html:If you are interested in learning more about the GRCC and would like to attend this happy hour\, please <a href="mailto:connie@rockvillechamber.org">contact Connie</a>.&nbsp\;
LOCATION:
UID:e.797.24736
SEQUENCE:3
DTSTAMP:20260423T205251Z
URL:https://business.rockvillechamber.org/events/details/prospective-member-invitation-only-happy-hour-24736
END:VEVENT

END:VCALENDAR
