BEGIN:VCALENDAR
VERSION:2.0
PRODID:-//ChamberMaster//Event Calendar 2.0//EN
METHOD:PUBLISH
X-PUBLISHED-TTL:P3D
REFRESH-INTERVAL:P3D
CALSCALE:GREGORIAN
BEGIN:VEVENT
DTSTART:20250626T230000Z
DTEND:20250627T010000Z
X-MICROSOFT-CDO-ALLDAYEVENT:FALSE
SUMMARY:Prisoner Wine Dinner at Fogo de Chão
DESCRIPTION:Join us at Fogo de Ch o Bethesda on Thursday\, June 26th for a four-course experience featuring a chef-curated Churrasco menu including Pan-Seared Sea Bass\, Wagyu Porterhouse\, Lamb Picanha\, and more perfectly paired with bold\, timeless wines: Blindfold Blanc de Noir\, Prisoner Red Blend\, Cabernet Sauvignon\, and Pinot Noir from The Prisoner Wine Company. Make your reservations now\, space is limited.
X-ALT-DESC;FMTTYPE=text/html:<span style="font-size:11.0pt">Join us at Fogo de Ch&atilde\;o Bethesda</span> <span style="font-size:11.0pt">on Thursday\, June 26th for a four-course experience featuring a chef-curated Churrasco menu including Pan-Seared Sea Bass\, Wagyu Porterhouse\, Lamb Picanha\, and more perfectly paired with bold\, timeless wines: Blindfold Blanc de Noir\, Prisoner Red Blend\, Cabernet Sauvignon\, and Pinot Noir from The Prisoner Wine Company. </span><span style="font-size:12px">Make your reservations now\, space is limited.</span>
LOCATION:Fogo de Ch o Bethesda 11600 Old Georgetown Rd\, North Bethesda\, MD 20852
UID:e.797.25429
SEQUENCE:3
DTSTAMP:20260423T225400Z
URL:https://business.rockvillechamber.org/events/details/prisoner-wine-dinner-at-fogo-de-ch&#227;o-25429
END:VEVENT

END:VCALENDAR
