BEGIN:VCALENDAR
VERSION:2.0
PRODID:-//ChamberMaster//Event Calendar 2.0//EN
METHOD:PUBLISH
X-PUBLISHED-TTL:P3D
REFRESH-INTERVAL:P3D
CALSCALE:GREGORIAN
BEGIN:VEVENT
DTSTART:20250517T140000Z
DTEND:20250517T210000Z
X-MICROSOFT-CDO-ALLDAYEVENT:FALSE
SUMMARY:Paddles with a Purpose\, powered by JOOLA
DESCRIPTION:Join us on May 17th & 18th at YMCA Bethesda-Chevy Chase for Paddles with a Purpose\, powered by JOOLA. This special Pickleball partnership kickoff event is where fun meets philanthropy!  All proceeds will support the YMCA's Send a Kid to Camp program\, helping provide unforgettable summer experiences for children in need across our community\n\n\n\n\n\n\n\n\n\n\n\n\n\n\n\nWhat to Expect:\n\n\n	\n	Ribbon-Cutting Ceremony at 10am on Saturday\, May 17th: Celebrate the official dedication of Richard Lee Court\, the new home for signature pickleball events at the YMCA\, powered by JOOLA.\n	\n	\n	Meet & Greet with the Pros on Saturday\, May 17th: Connect with JOOLA's participating touring and junior pros\, top pickleball players and fellow pickleball enthusiasts.\n	\n	\n	Instructional Clinic from 11am to 12:30am on Saturday\, May 17th: Learn from the best with hands-on coaching from TEAM JOOLA and the YMCA.\n	\n	\n	TWO Pro-Am Round Robin sessions (one from 1pm to 3pm and another from 3pm to 5pm\; both on Saturday\, May 17th): Players register individually by skill level and rotate partners each round\, creating a dynamic mix of competition and camaraderie. You'll have the unique opportunity to team up with fellow players\, JOOLA pros\, and your favorite YMCA pickleball coaches.\n	\n	\n	JOOLA Paddle Demos all weekend: Test drive a new JOOLA paddle this weekend! JOOLA offers exceptional paddles for champions at every level\n\n	\n\n	CLICK HERE TO REGISTER
X-ALT-DESC;FMTTYPE=text/html:<div style="margin-left:-15px\; margin-right:-15px">\n<div>\n<div>\n<div>\n<div>\n<div>\n<div>Join us on&nbsp\;<span style="font-family:cachet w01 bold\,helvetica neue\,helvetica\,arial\,sans-serif\,verdana">May 17th &amp\; 18th at YMCA Bethesda-Chevy Chase for Paddles with a Purpose\, powered by JOOLA</span>. This special<a href="https://www.ymcadc.org/wp-content/uploads/2025/04/YMCA-of-Metropolitan-Washington-and-JOOLA-Partner-to-Strengthen-Communities-Across-the-DMV-Through-Pickleball-Washington-D.C.-April-3-2025-%E2%80%93-The-YMCA-of-Metropolitan-Washington-and-global-pick.pdf" style="box-sizing: border-box\; background: transparent\; color: rgb(66\, 139\, 202)\; text-decoration-line: none\;">&nbsp\;Pickleball partnership</a>&nbsp\;kickoff event is where fun meets philanthropy!&nbsp\; All proceeds will support the&nbsp\;<a class="x_OWAAutoLink" href="https://nam02.safelinks.protection.outlook.com/?url=https%3A%2F%2Fwww.ymcadc.org%2Fsupport-the-y%2Fgive%2Fsend-a-kid-to-camp%2F%23%3A~%3Atext%3DA%2520donation%2520of%2520%2524945%2520sends%2Cone%2520week%2520of%2520day%2520camp.&amp\;data=05%7C02%7CGuy.Hash%40ymcadc.org%7C59e666e86844489c3cf908dd722b30ed%7Ca84a51d7a4614405a64e824de0f10bea%7C0%7C0%7C638792252026606849%7CUnknown%7CTWFpbGZsb3d8eyJFbXB0eU1hcGkiOnRydWUsIlYiOiIwLjAuMDAwMCIsIlAiOiJXaW4zMiIsIkFOIjoiTWFpbCIsIldUIjoyfQ%3D%3D%7C0%7C%7C%7C&amp\;sdata=1I49AZGcwOuWh2C0ahahWFXFuvvOOInkf686ZwMZiUI%3D&amp\;reserved=0" id="OWAd7a194f3-a714-bfdf-b9ba-75bdfe98dee1" rel="noopener noreferrer" style="box-sizing: border-box\; background: transparent\; color: rgb(66\, 139\, 202)\; text-decoration-line: none\; margin-bottom: 0px\;" target="_blank" title="Original URL: https://www.ymcadc.org/support-the-y/give/send-a-kid-to-camp/#:~:text=A%20donation%20of%20%24945%20sends\,one%20week%20of%20day%20camp.. Click or tap if you trust this link.">YMCA&rsquo\;s Send a Kid to Camp program</a>\, helping provide unforgettable summer experiences for children in need across our community</div>\n</div>\n</div>\n</div>\n</div>\n</div>\n</div>\n\n<div style="margin-left:-15px\; margin-right:-15px">\n<div>\n<div>\n<div>\n<div>\n<div>\n<h3><br />\nWhat to Expect:</h3>\n\n<ul>\n	<li>\n	<div><span style="font-family:cachet w01 bold\,helvetica neue\,helvetica\,arial\,sans-serif\,verdana">Ribbon-Cutting Ceremony&nbsp\;at 10am on Saturday\, May 17th:&nbsp\;</span>Celebrate the official dedication of Richard Lee Court\, the new home for signature pickleball events at the YMCA\, powered by JOOLA.</div>\n	</li>\n	<li>\n	<div><span style="font-family:cachet w01 bold\,helvetica neue\,helvetica\,arial\,sans-serif\,verdana">Meet &amp\; Greet with the Pros on Saturday\, May 17th:&nbsp\;</span>Connect with&nbsp\;<a href="https://www.ymcadc.org/paddles-with-a-purpose-pickleball-pros/" style="box-sizing: border-box\; background: transparent\; color: rgb(66\, 139\, 202)\; text-decoration-line: none\;">JOOLA&rsquo\;s participating touring and junior pros</a>\, top pickleball players and fellow pickleball enthusiasts<strong>.</strong></div>\n	</li>\n	<li>\n	<div><span style="font-family:cachet w01 bold\,helvetica neue\,helvetica\,arial\,sans-serif\,verdana">Instructional Clinic&nbsp\;from 11am to 12:30am on Saturday\, May 17th:</span>&nbsp\;Learn from the best with hands-on coaching from TEAM JOOLA and the YMCA.</div>\n	</li>\n	<li>\n	<div><span style="font-family:cachet w01 bold\,helvetica neue\,helvetica\,arial\,sans-serif\,verdana">TWO Pro-Am Round Robin sessions (one from 1pm to 3pm and another from 3pm to 5pm\; both on Saturday\, May 17th):</span>&nbsp\;Players register individually by skill level and rotate partners each round\, creating a dynamic mix of competition and camaraderie. You&rsquo\;ll have the unique opportunity to team up with fellow players\, JOOLA pros\, and your favorite YMCA pickleball coaches.</div>\n	</li>\n	<li>\n	<div><span style="font-family:cachet w01 bold\,helvetica neue\,helvetica\,arial\,sans-serif\,verdana">JOOLA Paddle Demos all weekend:&nbsp\;</span>Test drive a new JOOLA paddle this weekend! JOOLA offers exceptional paddles for champions at every level<br />\n	<br />\n	CLICK HERE TO REGISTER</div>\n	</li>\n	<br />\n	<li>&nbsp\;</li>\n</ul>\n</div>\n</div>\n</div>\n</div>\n</div>\n</div>\n
LOCATION:YMCA Bethesda-Chevy Chase - 9401 Old Georgetown Rd\, Bethesda\, MD 20814
UID:e.797.25401
SEQUENCE:3
DTSTAMP:20260423T205234Z
URL:https://business.rockvillechamber.org/events/details/paddles-with-a-purpose-powered-by-joola-25401
END:VEVENT

END:VCALENDAR
