BEGIN:VCALENDAR
VERSION:2.0
PRODID:-//ChamberMaster//Event Calendar 2.0//EN
METHOD:PUBLISH
X-PUBLISHED-TTL:P3D
REFRESH-INTERVAL:P3D
CALSCALE:GREGORIAN
BEGIN:VEVENT
DTSTART:20260430T220000Z
DTEND:20260501T010000Z
X-MICROSOFT-CDO-ALLDAYEVENT:FALSE
SUMMARY:Open Studio Thursday
DESCRIPTION:Drop in anytime during Open Studio to craft something amazing! Choose from a wide variety of projects starting at just $15. Whether you're making a handmade gift or a DIY piece for your home\, Open Studio is a relaxed and fun way to get creative!\n\n? We've got something for everyone:\n\n\n	\n	Seasonal and everyday designs\n	\n	\n	Kid-friendly projects\n	\n	\n	Adult DIYs\n	\n	\n	Great options for gifts or home decor\n	\n\n\nHow it works:\n\n\n	\n	All guests who stay to create must purchase a project.\n\n	(Adults assisting children ages 4 and under are the only exception.)\n	\n	\n	Projects are first come\, first serve.\n	\n	\n	Most take 45 90 minutes depending on the design.\n	\n	\n	Prices are based on the project selected not on time spent.\n	\n\n\nWant something special?\n\nIf you have a custom request or would like a specific design\, please email us at hammerandstainrockville@gmail.com at least 1 week in advance\, and we'll do our best to prep it for you.\n\n?? Select a time slot and let us know you're coming we can't wait to craft with you!
X-ALT-DESC;FMTTYPE=text/html:<p>Drop in anytime during Open Studio to craft something amazing! Choose from a wide variety of projects starting at just $15. Whether you&#39\;re making a handmade gift or a DIY piece for your home\, Open Studio is a relaxed and fun way to get creative!</p>\n\n<p>? We&rsquo\;ve got something for everyone:</p>\n\n<ul>\n	<li>\n	<p>Seasonal and everyday designs</p>\n	</li>\n	<li>\n	<p>Kid-friendly projects</p>\n	</li>\n	<li>\n	<p>Adult DIYs</p>\n	</li>\n	<li>\n	<p>Great options for gifts or home decor</p>\n	</li>\n</ul>\n\n<p><strong>How it works:</strong></p>\n\n<ul>\n	<li>\n	<p>All guests who stay to create must purchase a project.<br />\n	<em>(Adults assisting children ages 4 and under are the only exception.)</em></p>\n	</li>\n	<li>\n	<p>Projects are first come\, first serve.</p>\n	</li>\n	<li>\n	<p>Most take 45&ndash\;90 minutes depending on the design.</p>\n	</li>\n	<li>\n	<p>Prices are based on the project selected&mdash\;not on time spent.</p>\n	</li>\n</ul>\n\n<p><strong>Want something special?</strong><br />\nIf you have a custom request or would like a specific design\, please email us at&nbsp\;hammerandstainrockville@gmail.com&nbsp\;at least 1 week in advance\, and we&rsquo\;ll do our best to prep it for you.</p>\n\n<p>??&nbsp\;<strong>Select a time slot and let us know you&#39\;re coming&mdash\;we can&rsquo\;t wait to craft with you!</strong></p>\n
LOCATION:We are located at 107B Gibbs Street in the Rockville Town Square across the street from First Watch & Finnegan's Wake.
UID:e.797.26249
SEQUENCE:3
DTSTAMP:20260426T015714Z
URL:https://business.rockvillechamber.org/events/details/open-studio-thursday-26249
END:VEVENT

END:VCALENDAR
