BEGIN:VCALENDAR
VERSION:2.0
PRODID:-//ChamberMaster//Event Calendar 2.0//EN
METHOD:PUBLISH
X-PUBLISHED-TTL:P3D
REFRESH-INTERVAL:P3D
CALSCALE:GREGORIAN
BEGIN:VEVENT
DTSTART:20230602T200000Z
DTEND:20230602T220000Z
X-MICROSOFT-CDO-ALLDAYEVENT:FALSE
SUMMARY:Open House at Artists & Makers Studios
DESCRIPTION:Join us for an opportunity to network and tour Artists & Makers Studios. A&M Studios is dedicated to providing a supportive and vibrant environment for artists to realize their creative goals - through studio practice\, collaboration\, education\, opportunities\, networking\, and connecting with the community beyond their doors.
X-ALT-DESC;FMTTYPE=text/html:<p style="margin: 0px\; padding: 0px\;"><span style="font-size: 16px\; color: rgb(20\, 20\, 20)\;">Join us for an opportunity to network and tour Artists &amp\; Makers Studios. A&amp\;M Studios is dedicated to providing a supportive and vibrant environment for artists to realize their creative goals - through studio practice\, collaboration\, education\, opportunities\, networking\, and connecting with the community beyond their doors. </span></p>\n\n<p style="margin: 0px\; padding: 0px\;">&nbsp\;</p>\n
LOCATION:11810 Parklawn Drive Suite 210 Rockville\, MD 20852
UID:e.797.16958
SEQUENCE:3
DTSTAMP:20260422T104957Z
URL:https://business.rockvillechamber.org/events/details/open-house-at-artists-makers-studios-16958
END:VEVENT

END:VCALENDAR
