BEGIN:VCALENDAR
VERSION:2.0
PRODID:-//ChamberMaster//Event Calendar 2.0//EN
METHOD:PUBLISH
X-PUBLISHED-TTL:P3D
REFRESH-INTERVAL:P3D
CALSCALE:GREGORIAN
BEGIN:VEVENT
DTSTART:20250522T120000Z
DTEND:20250522T150000Z
X-MICROSOFT-CDO-ALLDAYEVENT:FALSE
SUMMARY:Nonprofit Symposium
DESCRIPTION:You are invited to attend the first inaugural Nonprofit Symposium with the City of Rockville and Nonprofit Montgomery! The goal of the event is to bring nonprofit organizations serving the City of Rockville's residents together to:  \n\n\n	 Address questions about the rapidly changing federal landscape and how it affects local nonprofit service providers\n\n\n\n	Inform attendees about the current state of Montgomery County's nonprofits as described in Nonprofit Montgomery's recently released report\n\n\n\n	Explore how the City of Rockville can best support nonprofits\; and  \n\n\n\n	Foster nonprofit collaboration with other nonprofits and the public sector for future impact.
X-ALT-DESC;FMTTYPE=text/html:<p><span style="color:rgb(34\, 34\, 34)\; font-family:roboto\,sans-serif\; font-size:14px">You are invited to attend the first inaugural&nbsp\;</span><strong>Nonprofit Symposium</strong><span style="color:rgb(34\, 34\, 34)\; font-family:roboto\,sans-serif\; font-size:14px">&nbsp\;with the City of Rockville and Nonprofit Montgomery! The&nbsp\;goal of the event is to bring nonprofit organizations serving the City of Rockville&rsquo\;s residents together to:</span><em>&nbsp\;</em><span style="color:rgb(34\, 34\, 34)\; font-family:roboto\,sans-serif\; font-size:14px">&nbsp\;</span></p>\n\n<ul>\n	<li><span style="font-size:14px"><em>&nbsp\;Address questions about the rapidly changing federal landscape and how it affects local nonprofit service providers</em></span></li>\n</ul>\n\n<ul>\n	<li><span style="font-size:14px"><em>Inform attendees about the current state of Montgomery County&rsquo\;s nonprofits as described in&nbsp\;<a class="neon2Link" href="https://www.nonprofitmoco.org/advocacy/stateofnonprofits2025/" rel="nofollow" style="box-sizing: border-box\; background-color: transparent\; color: rgb(51\, 122\, 183)\; text-decoration-line: none\;">Nonprofit Montgomery&rsquo\;s recently released report</a></em></span></li>\n</ul>\n\n<ul>\n	<li><span style="font-size:14px"><em>Explore how the City of Rockville can best support nonprofits\; and&nbsp\;</em>&nbsp\;</span></li>\n</ul>\n\n<ul>\n	<li><span style="font-size:14px"><em>Foster nonprofit collaboration with other nonprofits and the public sector for future impact.</em>&nbsp\;</span></li>\n</ul>\n
LOCATION:VisArts Center 155 Gibbs St Rockville\, MD 20850
UID:e.797.25389
SEQUENCE:3
DTSTAMP:20260423T205101Z
URL:https://business.rockvillechamber.org/events/details/nonprofit-symposium-25389
END:VEVENT

END:VCALENDAR
