BEGIN:VCALENDAR
VERSION:2.0
PRODID:-//ChamberMaster//Event Calendar 2.0//EN
METHOD:PUBLISH
X-PUBLISHED-TTL:P3D
REFRESH-INTERVAL:P3D
CALSCALE:GREGORIAN
BEGIN:VEVENT
DTSTART:20230606T130000Z
DTEND:20230606T140000Z
X-MICROSOFT-CDO-ALLDAYEVENT:FALSE
SUMMARY:Nonprofit Mastermind
DESCRIPTION:We have all experienced the good\, the bad\, and the ugly in the nonprofit sector\; especially since the onset of the pandemic.  We are constantly asking ourselves the following questions:\n\n \n\n	How can our organizations effectively adapt to this everchanging world?\n	How do we make sure that our stakeholders and supporters are staying engaged with our work?  \n	How do we retain our staff and prevent burnout?\n	What are the current fundraising trends?  \n\n \n\nLet's gather for a morning of meaningful conversation and connection as we share stories and support one another in our vulnerability and desire to reach our organizational goals.
X-ALT-DESC;FMTTYPE=text/html:We have all experienced the good\, the bad\, and the ugly in the nonprofit sector\;&nbsp\;<strong>especially since the onset of the pandemic</strong>. &nbsp\;We are constantly asking ourselves the following questions:<br />\n&nbsp\;\n<ul>\n	<li style="font-size:11pt\;font-family:Calibri\, sans-serif\;">How can our organizations effectively adapt to this everchanging world?</li>\n	<li style="font-size:11pt\;font-family:Calibri\, sans-serif\;">How do we make sure that our stakeholders and supporters are staying engaged with our work? &nbsp\;</li>\n	<li style="font-size:11pt\;font-family:Calibri\, sans-serif\;">How do we retain our staff and prevent burnout?</li>\n	<li style="font-size:11pt\;font-family:Calibri\, sans-serif\;">What are the current fundraising trends? &nbsp\;</li>\n</ul>\n&nbsp\;<br />\nLet&rsquo\;s gather for a morning of meaningful conversation and connection as we share stories and support one another in our vulnerability and desire to reach our organizational goals.
LOCATION:Cornerstone Montgomery 6 Taft Court #200 Rockville\, MD 20850
UID:e.797.16976
SEQUENCE:3
DTSTAMP:20260422T104916Z
URL:https://business.rockvillechamber.org/events/details/nonprofit-mastermind-16976
END:VEVENT

END:VCALENDAR
