BEGIN:VCALENDAR
VERSION:2.0
PRODID:-//ChamberMaster//Event Calendar 2.0//EN
METHOD:PUBLISH
X-PUBLISHED-TTL:P3D
REFRESH-INTERVAL:P3D
CALSCALE:GREGORIAN
BEGIN:VEVENT
DTSTART:20250512T130000Z
DTEND:20250512T140000Z
X-MICROSOFT-CDO-ALLDAYEVENT:FALSE
SUMMARY:Nonprofit Mastermind
DESCRIPTION:Josh Bender and Sarah Basehart are happy to begin co-chairing the Nonprofit Mastermind meeting. The next meeting is Monday\, May 12\, at 9 am\, the Zoom link will be emailed to you upon registration.\n\n\n\nBrigid Howe will present on the state of nonprofits in Montgomery County at Monday's meeting. The presentation will be based on Nonprofit Montgomery's 2025 State of Nonprofits in Montgomery County Report\, a deep dive into the sector's impact\, challenges\, and future trends.\n\n\n\nHope to see you then!
X-ALT-DESC;FMTTYPE=text/html:Josh Bender and Sarah Basehart are happy to begin co-chairing the Nonprofit Mastermind meeting. The next meeting is Monday\, May 12\, at 9 am\, the Zoom link will be emailed to you upon registration.<br />\n<br />\nBrigid Howe will present on the state of nonprofits in Montgomery County at Monday&rsquo\;s meeting. The presentation will be based on Nonprofit Montgomery&rsquo\;s 2025&nbsp\;<a data-saferedirecturl="https://www.google.com/url?q=https://www.nonprofitmoco.org/wp-content/uploads/2025/03/2025-State-of-Nonprofits-in-Montgomery-County_DIGITAL_3.20.25-1.pdf&amp\;source=gmail&amp\;ust=1746559249979000&amp\;usg=AOvVaw1kIpDJQ_cHs4ODiYA4zfuY" href="https://www.nonprofitmoco.org/wp-content/uploads/2025/03/2025-State-of-Nonprofits-in-Montgomery-County_DIGITAL_3.20.25-1.pdf" style="color:rgb(17\, 85\, 204)\;" target="_blank">State of Nonprofits in Montgomery County Report</a>\, a deep dive into the sector&rsquo\;s impact\, challenges\, and future trends.<br />\n<br />\nHope to see you then!
LOCATION:Zoom
UID:e.797.24847
SEQUENCE:3
DTSTAMP:20260423T205344Z
URL:https://business.rockvillechamber.org/events/details/nonprofit-mastermind-05-12-2025-24847
END:VEVENT

END:VCALENDAR
