BEGIN:VCALENDAR
VERSION:2.0
PRODID:-//ChamberMaster//Event Calendar 2.0//EN
METHOD:PUBLISH
X-PUBLISHED-TTL:P3D
REFRESH-INTERVAL:P3D
CALSCALE:GREGORIAN
BEGIN:VEVENT
DTSTART:20250630T123000Z
DTEND:20250630T140000Z
X-MICROSOFT-CDO-ALLDAYEVENT:FALSE
SUMMARY:New Member Orientation
DESCRIPTION:New members. What happens next?\n\n\n\nOur new member orientation explains your membership\, and we welcome your questions as you join our community.\n\n \n\n\nThis event is for everyone\, whether you are new to the Greater Rockville Chamber of Commerce or to your company! During the New Member Orientation\, we will explain the benefits of your membership and how you can get involved in the many programs\, events\, and opportunities available through the Rockville Chamber. \n\n\n\nBreakfast will be provided by Dawson's.
X-ALT-DESC;FMTTYPE=text/html:<p dir="ltr" style="box-sizing: border-box\; margin: 0pt 0px\; padding: 0px\; font-family: Tahoma\, Helvetica\, Geneva\, Swiss\, SunSans-Regular\; font-size: 14px\; line-height: 1.2\;"><span style="font-size:16px\;"><span style="box-sizing: border-box\;"><span style="box-sizing: border-box\;">New members. What happens next?</span></span><br style="box-sizing: border-box\;" />\n<br style="box-sizing: border-box\;" />\n<span style="box-sizing: border-box\;"><span style="box-sizing: border-box\;">Our new member orientation explains your membership\, and we welcome your questions as you join our community.</span></span></span><br style="box-sizing: border-box\;" />\n&nbsp\;</p>\n\n<div class="entry-content" style="box-sizing: inherit\; outline: 0px\; font-size: 14px\; font-family: Raleway\, sans-serif\;">\n<div style="box-sizing: inherit\; outline: 0px\; margin: 0px 0px 28px\; padding: 0px\;"><span style="font-size:16px\;">This event is for everyone\, whether you are new to the Greater Rockville Chamber of Commerce or to your company! During the New Member Orientation\, we will explain the benefits of your membership and how you can get involved in the many programs\, events\, and opportunities available through the Rockville Chamber.&nbsp\;<br />\n<br />\nBreakfast will be provided by Dawson&#39\;s.&nbsp\;&nbsp\;</span><br />\n&nbsp\;</div>\n</div>\n
LOCATION:Greater Rockville Chamber of Commerce 1 Research Court 3rd Floor Conference Room
UID:e.797.25383
SEQUENCE:3
DTSTAMP:20260423T225248Z
URL:https://business.rockvillechamber.org/events/details/new-member-orientation-25383
END:VEVENT

END:VCALENDAR
