BEGIN:VCALENDAR
VERSION:2.0
PRODID:-//ChamberMaster//Event Calendar 2.0//EN
METHOD:PUBLISH
X-PUBLISHED-TTL:P3D
REFRESH-INTERVAL:P3D
CALSCALE:GREGORIAN
BEGIN:VEVENT
DTSTART:20250428T123000Z
DTEND:20250428T140000Z
X-MICROSOFT-CDO-ALLDAYEVENT:FALSE
SUMMARY:New Member Orientation
DESCRIPTION:New members. What happens next?\n\n\n\nOur new member orientation helps to explain what your membership is all about. We welcome your questions as you join our community.\n\n \n\n\nNo matter if you are new to the Rockville Chamber of Commerce or to your company\, this event is for you! During the New Member Orientation\, we explain the benefits of your membership and how you can get involved in the many programs\, events\, and opportunities available through the Rockville Chamber. \n\n\n\nBreakfast sponsored by Campos Financial from 8:30 - 9:00 am.
X-ALT-DESC;FMTTYPE=text/html:<p dir="ltr" style="box-sizing: border-box\; margin: 0pt 0px\; padding: 0px\; font-family: Tahoma\, Helvetica\, Geneva\, Swiss\, SunSans-Regular\; font-size: 14px\; line-height: 1.2\;"><span style="font-size:16px\;"><span style="box-sizing: border-box\;"><span style="box-sizing: border-box\;">New members. What happens next?</span></span><br style="box-sizing: border-box\;" />\n<br style="box-sizing: border-box\;" />\n<span style="box-sizing: border-box\;"><span style="box-sizing: border-box\;">Our new member orientation helps to explain what your membership is all about. We welcome your questions as you join our community.</span></span></span><br style="box-sizing: border-box\;" />\n&nbsp\;</p>\n\n<div class="entry-content" style="box-sizing: inherit\; outline: 0px\; font-size: 14px\; font-family: Raleway\, sans-serif\;">\n<div style="box-sizing: inherit\; outline: 0px\; margin: 0px 0px 28px\; padding: 0px\;"><span style="font-size:16px\;">No matter if you are new to the Rockville Chamber of Commerce or to your company\, this event is for you! During the New Member Orientation\, we explain the benefits of your membership and how you can get involved in the many programs\, events\, and opportunities available through the Rockville Chamber.&nbsp\;<br />\n<br />\nBreakfast sponsored by Campos Financial from 8:30 - 9:00 am.&nbsp\;</span></div>\n</div>\n
LOCATION:Greater Rockville Chamber of Commerce 1 Research Court 3rd Floor Conference Room
UID:e.797.24781
SEQUENCE:3
DTSTAMP:20260423T205251Z
URL:https://business.rockvillechamber.org/events/details/new-member-orientation-24781
END:VEVENT

END:VCALENDAR
