BEGIN:VCALENDAR
VERSION:2.0
PRODID:-//ChamberMaster//Event Calendar 2.0//EN
METHOD:PUBLISH
X-PUBLISHED-TTL:P3D
REFRESH-INTERVAL:P3D
CALSCALE:GREGORIAN
BEGIN:VEVENT
DTSTART:20230620T123000Z
DTEND:20230620T140000Z
X-MICROSOFT-CDO-ALLDAYEVENT:FALSE
SUMMARY:New Member Orientation
DESCRIPTION:New members. What happens next?\n\n\n\nOur new member orientation helps to explain what your membership is all about. We welcome your questions as you join our community.\n\n \n\n\nNo matter if you are new to the Greater Rockville Chamber of Commerce or to your company\, this event is for you! During the New Member Orientation\, we explain the benefits of your membership and how you can get involved in the many programs\, events\, and opportunities available through the Greater Rockville Chamber.
X-ALT-DESC;FMTTYPE=text/html:<p dir="ltr" style="line-height:1.2\;margin-top:0pt\;margin-bottom:0pt\;"><span style="font-size:18px\;"><span style="font-family:arial\;">New members. What happens next?</span></span><br />\n<br />\n<span style="font-size:14px\;"><span style="font-family:arial\;">Our new member orientation helps to explain what your membership is all about. We welcome your questions as you join our community.</span></span><br />\n&nbsp\;</p>\n\n<div class="entry-content" style="box-sizing: inherit\; font-family: Raleway\, sans-serif\; font-size: 14px\;">\n<div style="box-sizing: inherit\; margin: 0px 0px 28px\; padding: 0px\;">No matter if you are new to the Greater Rockville Chamber of Commerce or to your company\, this event is for you! During the New Member Orientation\, we explain the benefits of your membership and how you can get involved in the many programs\, events\, and opportunities available through the Greater Rockville Chamber.&nbsp\;</div>\n</div>\n
LOCATION:Chamber Office 1 Research Ct 3rd Floor Conference Room
UID:e.797.16978
SEQUENCE:3
DTSTAMP:20260422T105440Z
URL:https://business.rockvillechamber.org/events/details/new-member-orientation-06-20-2023-16978
END:VEVENT

END:VCALENDAR
