BEGIN:VCALENDAR
VERSION:2.0
PRODID:-//ChamberMaster//Event Calendar 2.0//EN
METHOD:PUBLISH
X-PUBLISHED-TTL:P3D
REFRESH-INTERVAL:P3D
CALSCALE:GREGORIAN
BEGIN:VEVENT
DTSTART:20230810T200000Z
DTEND:20230810T220000Z
X-MICROSOFT-CDO-ALLDAYEVENT:FALSE
SUMMARY:Networking Happy Hour Sponsored by the Young Professionals Group
DESCRIPTION:Join us on August 10th\, 2023\, for an exciting networking happy hour hosted by the Greater Rockville Young Professionals Group (YPG) at Fogo de Chao. This event promises to be an excellent opportunity to connect with fellow professionals from diverse industries in a relaxed and vibrant atmosphere. Come and enjoy the delicious Brazilian drinks and bar bites while building valuable connections that can elevate your career and expand your network. Don't miss out on this fantastic chance to foster meaningful relationships within the Greater Rockville business community.\n\n\n\nSponsored by Dan Helhowski from Beltway Merchant Services\n\nHappy Hour Drink Specials and Bar Bites provided by Fogo de Chao.
X-ALT-DESC;FMTTYPE=text/html:Join us on August 10th\, 2023\, for an exciting networking happy hour hosted by the Greater Rockville Young Professionals Group (YPG) at Fogo de Chao. This event promises to be an excellent opportunity to connect with fellow professionals from diverse industries in a relaxed and vibrant atmosphere. Come and enjoy the delicious Brazilian drinks and bar bites while building valuable connections that can elevate your career and expand your network. Don&#39\;t miss out on this fantastic chance to foster meaningful relationships within the Greater Rockville business community.<br />\n<br />\nSponsored by Dan Helhowski from Beltway Merchant Services<br />\nHappy Hour Drink Specials and Bar Bites provided by Fogo de Chao.
LOCATION:Fogo de Ch o Brazilian Steakhouse 11600 Old Georgetown Rd\, North Bethesda\, MD 20852
UID:e.797.18838
SEQUENCE:3
DTSTAMP:20260422T142151Z
URL:https://business.rockvillechamber.org/events/details/networking-happy-hour-sponsored-by-the-young-professionals-group-18838
END:VEVENT

END:VCALENDAR
