BEGIN:VCALENDAR
VERSION:2.0
PRODID:-//ChamberMaster//Event Calendar 2.0//EN
METHOD:PUBLISH
X-PUBLISHED-TTL:P3D
REFRESH-INTERVAL:P3D
CALSCALE:GREGORIAN
BEGIN:VEVENT
DTSTART:20250628T150000Z
DTEND:20250628T170000Z
X-MICROSOFT-CDO-ALLDAYEVENT:FALSE
SUMMARY:Neighborhood Safety Day
DESCRIPTION:Main Street and the Rockville City Police are partnering to host a Neighborhood Safety Day! Monroe Place will be closed and filled with fun and educational opportunities. Come to engage in interactive activities with first responders\, learn about safety resources\, connect with friends and make some new ones! We'll have music and delicious food available for purchase. \n\n\n\nMany thanks to our sponsors: Wegmans\, The Ethan Saylor Alliance for Self-Advocates as Educators within the MD Department of Disabilities\, and Atlantic Union Bank!  \n\n\n\nWe hope to see you there! \n\n\n\nAbout Main Street: Main Street's mission is to create dynamic opportunities through affordable\, inclusive housing and community engagement so people of all abilities can live their best lives.
X-ALT-DESC;FMTTYPE=text/html:<span style="font-size:14px"><span style="font-family:arial\,helvetica\,sans-serif"><span style="color:rgb(32\, 32\, 32)">Main Street and the Rockville City Police are partnering to host a Neighborhood Safety Day! Monroe Place will be closed and filled with fun and educational opportunities. Come to engage in interactive activities with first responders\, learn about safety resources\, connect with friends and make some new ones! We&rsquo\;ll have music and delicious food available for purchase.&nbsp\;</span><br />\n<br />\nMany thanks to our sponsors: Wegmans\, The Ethan Saylor Alliance for Self-Advocates as Educators within the MD Department of Disabilities\, and Atlantic Union Bank!&nbsp\;&nbsp\;<br />\n<br />\n<span style="color:rgb(32\, 32\, 32)">We hope to see you there!&nbsp\;</span></span><br />\n<br />\n<span style="font-family:arial\,helvetica\,sans-serif"><em><strong>About Main Street:</strong>&nbsp\;Main Street&#39\;s mission is to create dynamic opportunities through affordable\, inclusive housing and community engagement so people of all abilities can live their best lives.</em></span></span>
LOCATION:50 Monroe Place Rockville\, MD 20850
UID:e.797.24934
SEQUENCE:3
DTSTAMP:20260423T225451Z
URL:https://business.rockvillechamber.org/events/details/neighborhood-safety-day-24934
END:VEVENT

END:VCALENDAR
