BEGIN:VCALENDAR
VERSION:2.0
PRODID:-//ChamberMaster//Event Calendar 2.0//EN
METHOD:PUBLISH
X-PUBLISHED-TTL:P3D
REFRESH-INTERVAL:P3D
CALSCALE:GREGORIAN
BEGIN:VEVENT
DTSTART:20250512T230000Z
DTEND:20250513T010000Z
X-MICROSOFT-CDO-ALLDAYEVENT:FALSE
SUMMARY:Monday Night Trivia with Torchy's Tacos!
DESCRIPTION:Join us for Damn Good Trivia Nights at Torchy's Tacos Rockville!\n\nTorchy's is bringing the heat to your Monday night with trivia & tacos!\n\nWhere: Torchy's Tacos Rockville\, 12266A Rockville Pike\, Rockville\, MD\, 20852\n\nWhen: Every Monday | 7 PM   9 PM\n\nTrivia Host: Pour House Trivia\n\nPrizes: Prizes are awarded to the top three winning teams!\n\n\n	First Place: $30 Torchy's Gift Card\n	Second Place: $20 Torchy's Gift Card\n	Third Place: $10 Torchy's Gift Card\n\n\nBring your crew\, grab a drink\, and show off your smarts. It's free to play - all you gotta do is just show up hungry and ready to win. Sign-ups start at 6:30 PM.
X-ALT-DESC;FMTTYPE=text/html:<p><strong>Join us for <em>Damn Good </em>Trivia Nights at Torchy&#39\;s Tacos Rockville!</strong></p>\n\n<p>Torchy&rsquo\;s is bringing the heat to your Monday night with trivia &amp\; tacos!</p>\n\n<p><strong>Where: </strong>Torchy&rsquo\;s Tacos Rockville\, 12266A Rockville Pike\, Rockville\, MD\, 20852<br />\n<strong>When: </strong>Every Monday | 7 PM &ndash\; 9 PM<br />\n<strong>Trivia Host:</strong> Pour House Trivia<br />\n<strong>Prizes: </strong>Prizes are awarded to the top three winning teams!</p>\n\n<ol>\n	<li>First Place: $30 Torchy&#39\;s Gift Card</li>\n	<li>Second Place: $20 Torchy&#39\;s Gift Card</li>\n	<li>Third Place: $10 Torchy&#39\;s Gift Card</li>\n</ol>\n\n<p>Bring your crew\, grab a drink\, and show off your smarts. It&rsquo\;s free to play - all you gotta do is just show up hungry and ready to win. Sign-ups start at 6:30 PM.</p>\n
LOCATION:12266A Rockville Pike\, Rockville\, MD\, 20852
UID:e.797.25408
SEQUENCE:3
DTSTAMP:20260423T205555Z
URL:https://business.rockvillechamber.org/events/details/monday-night-trivia-with-torchy-s-tacos-25408
END:VEVENT

END:VCALENDAR
