BEGIN:VCALENDAR
VERSION:2.0
PRODID:-//ChamberMaster//Event Calendar 2.0//EN
METHOD:PUBLISH
X-PUBLISHED-TTL:P3D
REFRESH-INTERVAL:P3D
CALSCALE:GREGORIAN
BEGIN:VEVENT
DTSTART:20210422T210000Z
DTEND:20210422T220000Z
X-MICROSOFT-CDO-ALLDAYEVENT:FALSE
SUMMARY:Mix and Mingle with the Silver Spring Chamber
DESCRIPTION:Mix and Mingle joint mixer with the Greater Silver Spring Chamber of Commerce.
X-ALT-DESC;FMTTYPE=text/html:Mix and Mingle joint mixer with the Greater Silver Spring Chamber of Commerce.
LOCATION:ZOOM
UID:e.797.14635
SEQUENCE:3
DTSTAMP:20260423T130605Z
URL:https://business.rockvillechamber.org/events/details/mix-and-mingle-with-the-silver-spring-chamber-14635
END:VEVENT

END:VCALENDAR
