BEGIN:VCALENDAR
VERSION:2.0
PRODID:-//ChamberMaster//Event Calendar 2.0//EN
METHOD:PUBLISH
X-PUBLISHED-TTL:P3D
REFRESH-INTERVAL:P3D
CALSCALE:GREGORIAN
BEGIN:VEVENT
DTSTART:20230817T140000Z
DTEND:20230817T150000Z
X-MICROSOFT-CDO-ALLDAYEVENT:FALSE
SUMMARY:Marketing Roundtable - Back to Branding Basics
DESCRIPTION:MARKETING ROUNDTABLE: Back to the Branding Basics with Sam from Marstudio.  Sam is one of the original founding members of Marstudio and currently serves as the firm's Chief Creative Officer. Sam attended the New Jersey Institute of Technology and has over 30 years of experience in branding and design. He has worked for industry giants such as AOL\, Discovery Channel\, Network Solutions\, Washington Post\, Costar\, and more. His years of experience in the corporate world have granted him a unique advantage. Sam's insider knowledge allows him to help businesses optimize their brand and clarify their message to compete and scale their products and services. He has helped create and launch over 100 brands and continues to consult businesses on how to create brands that resonate with their target audience and craft successful brand strategies to dominate their market.\n\n\n\nWhat will you learn?\n\nYou will learn how to clarify your message so that people can easily understand your value proposition and buy from you.\n\n \n\nWhy should you attend?\n\nYou should attend\, for this insight will drastically transform the way you approach marketing and sales & help you craft narratives that resonate with your target audience.
X-ALT-DESC;FMTTYPE=text/html:<p style="color: rgb(34\, 34\, 34)\; font-family: Arial\, Helvetica\, sans-serif\; font-size: small\;"><span style="font-size:14px\;"><span style="font-family:arial\;">MARKETING ROUNDTABLE:&nbsp\;</span></span>Back to the Branding Basics with Sam from Marstudio.&nbsp\;&nbsp\;Sam is one of the original founding members of Marstudio and currently serves as the firm&rsquo\;s Chief Creative Officer. Sam attended the New Jersey Institute of Technology and has over 30 years of experience in branding and design. He has worked for industry giants such as AOL\, Discovery Channel\, Network Solutions\, Washington Post\, Costar\, and more. His years of experience in the corporate world have granted him a unique advantage. Sam&rsquo\;s insider knowledge allows him to help businesses optimize their brand and clarify their message to compete and scale their products and services. He has helped create and launch over 100 brands and continues to consult businesses on how to create brands that resonate with their target audience and craft successful brand strategies to dominate their market.</p>\n\n<p style="color: rgb(34\, 34\, 34)\; font-family: Arial\, Helvetica\, sans-serif\; font-size: small\;"><br />\n<span style="font-size:14px\;"><span style="font-family:arial\;"><b>What will you&nbsp\;learn?</b></span></span></p>\n\n<div class="gmail_default" style="color: rgb(34\, 34\, 34)\; font-family: Arial\, Helvetica\, sans-serif\; font-size: large\;"><span style="font-size:14px\;"><span style="font-family:arial\;">You will learn how to clarify your message so that people can easily understand your value proposition and buy from you.</span></span></div>\n\n<div class="gmail_default" style="color: rgb(34\, 34\, 34)\; font-family: Arial\, Helvetica\, sans-serif\; font-size: large\;">&nbsp\;</div>\n\n<div class="gmail_default" style="color: rgb(34\, 34\, 34)\; font-family: Arial\, Helvetica\, sans-serif\; font-size: large\;"><span style="font-size:14px\;"><span style="font-family:arial\;"><b>Why should you&nbsp\;attend?</b><br />\nYou should attend\,&nbsp\;for this insight will drastically transform the way you&nbsp\;approach marketing and sales &amp\;&nbsp\;help you&nbsp\;craft narratives that resonate with your&nbsp\;target audience.</span></span><br />\n&nbsp\;</div>\n
LOCATION:Rockville Chamber of Commerce 1 Research Court\, Suite 450 Rockville\, MD 20850
UID:e.797.16689
SEQUENCE:3
DTSTAMP:20260422T142158Z
URL:https://business.rockvillechamber.org/events/details/marketing-roundtable-back-to-branding-basics-16689
END:VEVENT

END:VCALENDAR
