BEGIN:VCALENDAR
VERSION:2.0
PRODID:-//ChamberMaster//Event Calendar 2.0//EN
METHOD:PUBLISH
X-PUBLISHED-TTL:P3D
REFRESH-INTERVAL:P3D
CALSCALE:GREGORIAN
BEGIN:VEVENT
DTSTART:20241217T140000Z
DTEND:20241218T030000Z
X-MICROSOFT-CDO-ALLDAYEVENT:FALSE
SUMMARY:Marketing Committee Meeting
DESCRIPTION:Marketing Committee focuses on promoting the value proposition of the Chamber to existing members\, potential members\, and the local business community. This committee promotes Chamber resources and events by creating messaging\, collateral\, and developing strategies to increase overall brand awareness.
X-ALT-DESC;FMTTYPE=text/html:<span style="box-sizing: inherit\; font-size: 14px\; background-color: rgb(255\, 255\, 255)\; font-family: arial\; font-weight: 700\; color: rgb(31\, 31\, 31)\;">Marketing Committee</span><span style="box-sizing: border-box\; font-size: 14px\; background-color: rgb(255\, 255\, 255)\; font-family: arial\; color: rgb(31\, 31\, 31)\;">&nbsp\;focuses on promoting the value proposition of the Chamber to existing members\, potential members\, and the local business community. This committee promotes Chamber resources and events by creating messaging\, collateral\, and developing strategies to increase overall brand awareness.&nbsp\;</span>
LOCATION:Zoom
UID:e.797.21551
SEQUENCE:3
DTSTAMP:20260423T225840Z
URL:https://business.rockvillechamber.org/events/details/marketing-committee-meeting-12-17-2024-21551
END:VEVENT

END:VCALENDAR
