BEGIN:VCALENDAR
VERSION:2.0
PRODID:-//ChamberMaster//Event Calendar 2.0//EN
METHOD:PUBLISH
X-PUBLISHED-TTL:P3D
REFRESH-INTERVAL:P3D
CALSCALE:GREGORIAN
BEGIN:VEVENT
DTSTART:20230608T140000Z
DTEND:20230609T030000Z
X-MICROSOFT-CDO-ALLDAYEVENT:FALSE
SUMMARY:Marketing Committee Meeting
DESCRIPTION:Marketing Committee focuses on promoting the value proposition of the Chamber to existing members\, potential members\, and the local business community. This committee promotes Chamber resources and events by creating messaging\, collateral\, and developing strategies to increase overall brand awareness.
X-ALT-DESC;FMTTYPE=text/html:<span style="font-family: arial\; font-size: 14px\; box-sizing: inherit\; font-weight: 700\; color: rgb(31\, 31\, 31)\;">Marketing Committee</span><span style="font-family: arial\; font-size: 14px\; color: rgb(31\, 31\, 31)\;">&nbsp\;focuses on promoting the value proposition of the Chamber to existing members\, potential members\, and the local business community. This committee promotes Chamber resources and events by creating messaging\, collateral\, and developing strategies to increase overall brand awareness.&nbsp\;</span>
LOCATION:Zoom
UID:e.797.16497
SEQUENCE:3
DTSTAMP:20260422T105839Z
URL:https://business.rockvillechamber.org/events/details/marketing-committee-meeting-06-08-2023-16497
END:VEVENT

END:VCALENDAR
