BEGIN:VCALENDAR
VERSION:2.0
PRODID:-//ChamberMaster//Event Calendar 2.0//EN
METHOD:PUBLISH
X-PUBLISHED-TTL:P3D
REFRESH-INTERVAL:P3D
CALSCALE:GREGORIAN
BEGIN:VEVENT
DTSTART:20250509T160000Z
DTEND:20250509T180000Z
X-MICROSOFT-CDO-ALLDAYEVENT:FALSE
SUMMARY:Lunch with Rockville's State Legislators
DESCRIPTION:Come enjoy lunch with District 17 State Senator Cheryl Kagan and Delegates Julie Palakovich Carr\, Ryan Spiegel\, and Joe Vogel to hear about what transpired during the recently concluded 2025 session of the Maryland General Assembly.  Our special guests will address the state budget\, transportation\, education\, and more.
X-ALT-DESC;FMTTYPE=text/html:<div dir="auto">Come enjoy lunch with District 17 State Senator Cheryl Kagan and Delegates Julie Palakovich Carr\, Ryan Spiegel\, and Joe Vogel to hear about what transpired during the recently concluded 2025 session of the Maryland General Assembly.&nbsp\; Our special guests will address the state budget\, transportation\, education\, and more.</div>\n\n<div>\n<div class="gmail_signature" data-smartmail="gmail_signature" dir="ltr">\n<div dir="ltr">&nbsp\;</div>\n</div>\n</div>\n
LOCATION:Botanero Restaurant King Farm Village Center 800 Pleasant Dr.\, #600 Rockville\, MD 20850
UID:e.797.25096
SEQUENCE:3
DTSTAMP:20260423T205519Z
URL:https://business.rockvillechamber.org/events/details/lunch-with-rockville-s-state-legislators-25096
END:VEVENT

END:VCALENDAR
