BEGIN:VCALENDAR
VERSION:2.0
PRODID:-//ChamberMaster//Event Calendar 2.0//EN
METHOD:PUBLISH
X-PUBLISHED-TTL:P3D
REFRESH-INTERVAL:P3D
CALSCALE:GREGORIAN
BEGIN:VEVENT
DTSTART:20230505T130000Z
DTEND:20230506T020000Z
X-MICROSOFT-CDO-ALLDAYEVENT:FALSE
SUMMARY:Legislative Recap
DESCRIPTION:We just wrapped up a very productive 90-day legislative session\, where we pushed Maryland forward on issues including child poverty\, reproductive rights\, education\, cannabis legalization\, and more. Of the roughly 2\,300 bills introduced in the legislature this year\, over 800 passed and were sent to Governor Wes Moore for his signature.\n\n\n\nJoin Senator Cheryl Kagan\, Delegate Julie Palakovich Carr\,  and Delegate Joe Vogel as they review the 2023 Legislative Session with us and answer your questions.
X-ALT-DESC;FMTTYPE=text/html:We just wrapped up a very productive 90-day legislative session\, where we pushed Maryland forward on issues including child poverty\, reproductive rights\, education\, cannabis legalization\, and more. Of the roughly 2\,300 bills introduced in the legislature this year\, over 800 passed and were sent to Governor Wes Moore for his signature.<br />\n<br />\nJoin Senator Cheryl Kagan\, Delegate Julie Palakovich Carr\,&nbsp\; and Delegate Joe Vogel as they review the 2023 Legislative Session with us and answer your questions.\n<p>&nbsp\;</p>\n
LOCATION:Greater Rockville Chamber of Commerce 1 Research Ct. 3rd floor conference room Rockville\, MD
UID:e.797.16946
SEQUENCE:3
DTSTAMP:20260422T090007Z
URL:https://business.rockvillechamber.org/events/details/legislative-recap-16946
END:VEVENT

END:VCALENDAR
