BEGIN:VCALENDAR
VERSION:2.0
PRODID:-//ChamberMaster//Event Calendar 2.0//EN
METHOD:PUBLISH
X-PUBLISHED-TTL:P3D
REFRESH-INTERVAL:P3D
CALSCALE:GREGORIAN
BEGIN:VEVENT
DTSTART:20250219T220000Z
DTEND:20250220T000000Z
X-MICROSOFT-CDO-ALLDAYEVENT:FALSE
SUMMARY:Joint Chamber Young Professionals Happy Hour
DESCRIPTION:Join us for a Joint Chamber of Commerce Young Professionals Network Happy Hour at Bonchon in Rockville Town Center! Network with fellow professionals from the Greater Rockville\, Germantown-Gaithersburg\, Bethesda\, Silver Spring\, and Olney Chambers of Commerce. This collaborative event is a perfect opportunity to build connections\, share ideas\, and grow your professional network. See you on February 19\, 2025\, from 5:00 to 7:00 PM!
X-ALT-DESC;FMTTYPE=text/html:<span style="color: rgb(0\, 0\, 0)\; font-family: Aptos\, Aptos_EmbeddedFont\, Aptos_MSFontService\, Calibri\, Helvetica\, sans-serif\; font-size: 16px\;">Join us for a Joint Chamber of Commerce Young Professionals Network Happy Hour at Bonchon in Rockville Town Center! Network with fellow professionals from the Greater Rockville\, Germantown-Gaithersburg\, Bethesda\, Silver Spring\, and Olney Chambers of Commerce. This collaborative event is a perfect opportunity to build connections\, share ideas\, and grow your professional network. See you on February 19\, 2025\, from 5:00 to 7:00 PM!</span>
LOCATION:Bonchon Chicken 107 Gibbs St Unit A Rockville\, MD 20850
UID:e.797.24727
SEQUENCE:3
DTSTAMP:20260423T185619Z
URL:https://business.rockvillechamber.org/events/details/joint-chamber-young-professionals-happy-hour-24727
END:VEVENT

END:VCALENDAR
