BEGIN:VCALENDAR
VERSION:2.0
PRODID:-//ChamberMaster//Event Calendar 2.0//EN
METHOD:PUBLISH
X-PUBLISHED-TTL:P3D
REFRESH-INTERVAL:P3D
CALSCALE:GREGORIAN
BEGIN:VEVENT
DTSTART:20250625T220000Z
DTEND:20250626T000000Z
X-MICROSOFT-CDO-ALLDAYEVENT:FALSE
SUMMARY:Join us for Wednesday Wellness – a FREE event filled with movement\, relaxation\, and good vibes!
DESCRIPTION:Looking for a fun\, healthy way to connect with others in your community? Join us for Wednesday Wellness   a FREE event filled with movement\, relaxation\, and good vibes!\n\n???? ????\n\nHosted by the Mabuhay Foundation in collaboration with DMV Zumbanians and Journey Within Wellness Center\, this is your chance to:\n\n? Enjoy a FREE Zumba Class   get moving with music and fun\n\n? Experience a FREE Back Massage Demo   relax and unwind\n\n? Try a FREE Stretching Demo   improve your flexibility and release tension\n\n? Whether you're a wellness pro or just starting your journey\, this is a great way to meet like-minded individuals who care about feeling their best   just like you!\n\n?? Wednesday\, June 25\n\n?? 6:00 PM\n\n?? 11755 Rockville Pike\, Rockville\, MD 20852\n\n?? No registration needed   just show up in workout clothes and bring a water bottle!\n\nLet's move\, stretch\, and relax together   because your wellness matters. ?? ???? ??
X-ALT-DESC;FMTTYPE=text/html:<p>Looking for a fun\, healthy way to connect with others in your community? Join us for <strong>Wednesday Wellness</strong> &ndash\; a FREE event filled with movement\, relaxation\, and good vibes!</p>\n\n<p>????&zwj\;????</p>\n\n<p>Hosted by the Mabuhay Foundation in collaboration with DMV Zumbanians and <strong>Journey Within Wellness Center</strong>\, this is your chance to:</p>\n\n<p>? Enjoy a <strong>FREE Zumba Class</strong> &ndash\; get moving with music and fun<br />\n? Experience a <strong>FREE Back Massage Demo</strong> &ndash\; relax and unwind<br />\n? Try a <strong>FREE Stretching Demo</strong> &ndash\; improve your flexibility and release tension</p>\n\n<p>? Whether you&#39\;re a wellness pro or just starting your journey\, this is a great way to meet like-minded individuals who care about feeling their best &ndash\; just like you!</p>\n\n<p>?? <strong>Wednesday\, June 25</strong><br />\n?? <strong>6:00 PM</strong><br />\n?? <strong>11755 Rockville Pike\, Rockville\, MD 20852</strong><br />\n?? No registration needed &ndash\; just show up in workout clothes and bring a water bottle!</p>\n\n<p>Let&rsquo\;s move\, stretch\, and relax together &ndash\; because <strong>your wellness matters</strong>. ??&zwj\;????&zwj\;??</p>\n
LOCATION:11755 Rockville Pike Nort Bethesda Maryland 20852
UID:e.797.25480
SEQUENCE:3
DTSTAMP:20260423T225833Z
URL:https://business.rockvillechamber.org/events/details/join-us-for-wednesday-wellness-a-free-event-filled-with-movement-relaxation-and-good-vibes-25480
END:VEVENT

END:VCALENDAR
