BEGIN:VCALENDAR
VERSION:2.0
PRODID:-//ChamberMaster//Event Calendar 2.0//EN
METHOD:PUBLISH
X-PUBLISHED-TTL:P3D
REFRESH-INTERVAL:P3D
CALSCALE:GREGORIAN
BEGIN:VEVENT
DTSTART:20250130T230000Z
DTEND:20250131T020000Z
X-MICROSOFT-CDO-ALLDAYEVENT:FALSE
SUMMARY:January Community Conversation: "WHAT DOES THE FAITH COMMUNITY SAY ABOUT ECONOMIC JUSTICE?"
DESCRIPTION:Join us for an exciting Community Conversation! This January we will host part 2 to the great conversation around the question: "WHAT DOES THE FAITH COMMUNITY SAY ABOUT ECONOMIC JUSTICE?"\n\nThis event will be moderated by Rev. Tim Warner and panelists will be announced soon.\n\n**Please register by 12PM EST on 1/29/2025 to attend**\n\nCLICK HERE TO REGISTER\n\nEvent Location: 12210 Plum Orchard Drive\, Suite 214 Silver Spring\, MD 20910\n\nAny questions\, please contact IW Director of Faith and Community Partnerships Roslyn Roberts at rroberts@iworksmc.org
X-ALT-DESC;FMTTYPE=text/html:<div>\n<div>\n<div>\n<div>\n<div>\n<div>\n<p>Join us for an exciting Community Conversation! This January we will host part 2 to the great conversation around the question: &quot\;WHAT DOES THE FAITH COMMUNITY SAY ABOUT ECONOMIC JUSTICE?&quot\;</p>\n\n<p>This event will be moderated by Rev. Tim Warner and panelists will be announced soon.</p>\n\n<p>**Please register by 12PM EST on 1/29/2025 to attend**</p>\n\n<p><a href="https://www.eventbrite.com/e/iw-january-community-conversation-tickets-1105802036659?aff=oddtdtcreator" id="yui_3_17_2_1_1736269273491_198" target="_blank"><strong>CLICK HERE TO REGISTER</strong></a></p>\n\n<p>Event Location: <strong>12210 Plum Orchard Drive\, Suite 214 Silver Spring\, MD 20910</strong></p>\n\n<p>Any questions\, please contact IW Director of Faith and Community Partnerships Roslyn Roberts at rroberts@iworksmc.org</p>\n</div>\n</div>\n</div>\n</div>\n</div>\n</div>\n
LOCATION:12210 Plum Orchard Drive\, Suite 214 Silver Spring\, MD 20910
UID:e.797.24724
SEQUENCE:3
DTSTAMP:20260423T225751Z
URL:https://business.rockvillechamber.org/events/details/january-community-conversation-what-does-the-faith-community-say-about-economic-justice-24724
END:VEVENT

END:VCALENDAR
