BEGIN:VCALENDAR
VERSION:2.0
PRODID:-//ChamberMaster//Event Calendar 2.0//EN
METHOD:PUBLISH
X-PUBLISHED-TTL:P3D
REFRESH-INTERVAL:P3D
CALSCALE:GREGORIAN
BEGIN:VEVENT
DTSTART:20250513T130000Z
DTEND:20250513T200000Z
X-MICROSOFT-CDO-ALLDAYEVENT:FALSE
SUMMARY:Industrious Coworking Day!
DESCRIPTION:Join us for an energizing Industrious Coworking Day at our vibrant Pike & Rose location! Shake up your usual routine\, connect with fellow professionals\, and experience a fresh\, inspiring workspace designed to boost your creativity and productivity. Whether you're a freelancer\, entrepreneur\, or simply looking for a change of scenery\, this is your chance to network\, collaborate\, and have fun while getting things done.\n\nOur onsite team will be there to welcome you and ensure you have everything you need for a productive day. Enjoy complimentary coffee\, snacks\, and great company as you dive into your projects and meet new friends. Don't miss out on this exciting opportunity to cowork\, mingle\, and celebrate productivity together see you there!
X-ALT-DESC;FMTTYPE=text/html:<p>Join us for an energizing <a href="https://lu.ma/62wvdw7h">Industrious Coworking Day</a> at our vibrant <a href="https://www.industriousoffice.com/locations/909-rose-avenue-400-500?utm_source=google&amp\;utm_medium=organic-search&amp\;utm_campaign=local-google&amp\;utm_term=BET0900ROS&amp\;utm_content=local-listing&amp\;ind_channel=organic&amp\;ind_ls=organic-search">Pike &amp\; Rose location</a>! Shake up your usual routine\, connect with fellow professionals\, and experience a fresh\, inspiring workspace designed to boost your creativity and productivity. Whether you&#39\;re a freelancer\, entrepreneur\, or simply looking for a change of scenery\, this is your chance to network\, collaborate\, and have fun while getting things done.</p>\n\n<p>Our onsite team will be there to welcome you and ensure you have everything you need for a productive day. Enjoy complimentary coffee\, snacks\, and great company as you dive into your projects and meet new friends. Don&#39\;t miss out on this exciting opportunity to cowork\, mingle\, and celebrate productivity together&mdash\;see you there!</p>\n
LOCATION:909 Rose Ave Suite 400 North Bethesda\, MD 20852
UID:e.797.25391
SEQUENCE:3
DTSTAMP:20260423T205234Z
URL:https://business.rockvillechamber.org/events/details/industrious-coworking-day-25391
END:VEVENT

END:VCALENDAR
