BEGIN:VCALENDAR
VERSION:2.0
PRODID:-//ChamberMaster//Event Calendar 2.0//EN
METHOD:PUBLISH
X-PUBLISHED-TTL:P3D
REFRESH-INTERVAL:P3D
CALSCALE:GREGORIAN
BEGIN:VEVENT
DTSTART:20230927T160000Z
DTEND:20230927T170000Z
X-MICROSOFT-CDO-ALLDAYEVENT:FALSE
SUMMARY:Income Strategies During Retirement Webinar hosted by Lafayette Federal Credit Union
DESCRIPTION:NEW MEMBERS: Earn a $50 deposit after you meet with James Pender\, Lafayette Federal's CFS  financial advisor\, establish a new membership at Lafayette Federal\, and open a CFS account! \n\n\n\nEXISTING MEMBERS: Earn a $50 deposit after you meet with James Pender\, Lafayette Federal's CFS  financial advisor\, and open a CFS account! \n\n\n\nYou've saved and invested in light of your golden years ahead\, but as retirement nears\, you begin to question if you're financially prepared. Having a plan is essential to ensure sufficient retirement income\, and James Pender\, Lafayette Federal's CFS Financial Advisor \, is here to help guide you through what to consider in helping establish financial stability.\n\n\n\nJoin us in learning how to take charge and feel confident in planning for your retirement.\n\n\nRSVP today at LFCUINCOME0923.EVENTBRITE.COM\n\n\n Non-deposit investment products and services are offered through CUSO Financial Services\, L.P. ("CFS")\, a registered broker-dealer (Member FINRA/SIPC) and SEC Registered Investment Advisor. Products offered through CFS: are not NCUA/NCUSIF or otherwise federally insured\, are not guarantees or obligations of the credit union\, and may involve investment risk including possible loss of principal. Investment Representatives are registered through CFS. Check the background of these investment professionals on FINRA's BrokerCheck. Lafayette Federal Credit Union ("LFCU") has contracted with CFS to make non-deposit investment products and services available to credit union members. For specific tax advice\, please consult a qualified tax professional.  $50.00 will be deposited into the LFCU primary savings account following verification of LFCU membership\, meeting with James Pender\, CFS Financial Advisor\, and CFS account opening. Limit one $50.00 reward per Member upon offer completion. To participate\, Member must be at least eighteen (18) years of age and the LFCU & CFS accounts must be active for at least thirty (30) days. Reward will be deposited into Member's primary savings account thirty (30) days after meeting all of the terms and conditions associated with the offer. Certain restrictions may apply. Lafayette Federal Credit Union employees\, family members\, and volunteers are not eligible. $50.00 minimum balance required to open and earn 0.10% APY (APY = Annual Percentage Yield) on Lafayette Federal share savings account balances. $5.00 minimum balance required to open and earn 2.04% APY on LFCU checking account balances up to $25\,000.00 and 0.025% APY on checking balances over $25\,000.00. Please visit LFCU.ORG/2FOR22 for full checking account requirements. Offer and rates current as of September 1\, 2023 and subject to change without notice. Your savings are federally insured to at least $250\,000.00 by the National Credit Union Administration\, an agency of the U.S. government.
X-ALT-DESC;FMTTYPE=text/html:<span style="font-family:arial\,helvetica\,sans-serif\; font-size:14px"><strong>NEW MEMBERS:&nbsp\;</strong>Earn a $50 deposit after you meet with James Pender\, Lafayette Federal&rsquo\;s CFS&sup1\; financial advisor\, establish a new membership at Lafayette Federal\, and open a CFS account!&sup2\;<br />\n<br />\n<strong>EXISTING MEMBERS:&nbsp\;</strong></span><span style="font-size:14px"><span style="font-family:arial\,helvetica\,sans-serif">Earn a $50 deposit after you meet with James Pender\, Lafayette Federal&rsquo\;s CFS&sup1\; financial advisor\, and open a CFS account!&sup2\;<br />\n<br />\nYou&rsquo\;ve saved and invested in light of your golden years ahead\, but as retirement nears\, you begin to question if you&rsquo\;re financially prepared. Having a plan is essential to ensure sufficient retirement income\, and James Pender\, Lafayette Federal&#39\;s CFS Financial Advisor&sup1\;\, is here to help guide you through what to consider in helping establish financial stability.<br />\n<br />\nJoin us in learning how to take charge and feel confident in planning for your retirement.</span></span>\n<p><br />\n<strong><span style="font-size:16px">RSVP today at <a href="https://www.eventbrite.com/e/income-strategies-during-retirement-webinar-registration-711507988547">LFCUINCOME0923.EVENTBRITE.COM</a></span></strong></p>\n<br />\n<span style="font-family:arial\,helvetica\,sans-serif\; font-size:10px">&sup1\;Non-deposit investment products and services are offered through CUSO Financial Services\, L.P. (&quot\;CFS&rdquo\;)\, a registered broker-dealer (Member FINRA/SIPC) and SEC Registered Investment Advisor. Products offered through CFS: are not NCUA/NCUSIF or otherwise federally insured\, are not guarantees or obligations of the credit union\, and may involve investment risk including possible loss of principal. Investment Representatives are registered through CFS. Check the background of these investment professionals on FINRA&#39\;s BrokerCheck. Lafayette Federal Credit Union (&ldquo\;LFCU&rdquo\;) has contracted with CFS to make non-deposit investment products and services available to credit union members. For specific tax advice\, please consult a qualified tax professional. &sup2\;$50.00 will be deposited into the LFCU primary savings account following verification of LFCU membership\, meeting with James Pender\, CFS Financial Advisor\, and CFS account opening. Limit one $50.00 reward per Member upon offer completion. To participate\, Member must be at least eighteen (18) years of age and the LFCU &amp\; CFS accounts must be active for at least thirty (30) days. Reward will be deposited into Member&rsquo\;s primary savings account thirty (30) days after meeting all of the terms and conditions associated with the offer. Certain restrictions may apply. Lafayette Federal Credit Union employees\, family members\, and volunteers are not eligible. $50.00 minimum balance required to open and earn 0.10% APY (APY = Annual Percentage Yield) on Lafayette Federal share savings account balances. $5.00 minimum balance required to open and earn 2.04% APY on LFCU checking account balances up to $25\,000.00 and 0.025% APY on checking balances over $25\,000.00. Please visit&nbsp\;<a href="https://www.lfcu.org/landing-short/2-for-2022.aspx">LFCU.ORG/2FOR22</a>&nbsp\;for full checking account requirements. Offer and rates current as of September 1\, 2023 and subject to change without notice. Your savings are federally insured to at least $250\,000.00 by the National Credit Union Administration\, an agency of the U.S. government.</span>
LOCATION:Zoom webinar. RSVP today at LFCUINCOME0923.EVENTBRITE.COM
UID:e.797.18935
SEQUENCE:3
DTSTAMP:20260422T163256Z
URL:https://business.rockvillechamber.org/events/details/income-strategies-during-retirement-webinar-hosted-by-lafayette-federal-credit-union-09-27-2023-18935
END:VEVENT

END:VCALENDAR
