BEGIN:VCALENDAR
VERSION:2.0
PRODID:-//ChamberMaster//Event Calendar 2.0//EN
METHOD:PUBLISH
X-PUBLISHED-TTL:P3D
REFRESH-INTERVAL:P3D
CALSCALE:GREGORIAN
BEGIN:VEVENT
DTSTART:20230502T130000Z
DTEND:20230502T140000Z
X-MICROSOFT-CDO-ALLDAYEVENT:FALSE
SUMMARY:IN PERSON - Nonprofit Mastermind
DESCRIPTION:Join us for an orientation on how to best utilize the Chamber to grow our nonprofits. As nonprofit members\, there are benefits that transfer to nonprofit work.  Let's talk about this and more!
X-ALT-DESC;FMTTYPE=text/html:<span style="color: rgb(34\, 34\, 34)\; font-family: Arial\, Helvetica\, sans-serif\; font-size: small\;">Join us for an orientation on how to best utilize the Chamber to grow our nonprofits. As nonprofit members\, there are benefits that transfer to nonprofit work.&nbsp\; Let&#39\;s talk about this and more!</span>
LOCATION:Greater Rockville Chamber Office 1 Research Ct.\, Suite 450 Annapolis Room Rockville\, MD
UID:e.797.16945
SEQUENCE:3
DTSTAMP:20260422T090544Z
URL:https://business.rockvillechamber.org/events/details/in-person-nonprofit-mastermind-05-02-2023-16945
END:VEVENT

END:VCALENDAR
