BEGIN:VCALENDAR
VERSION:2.0
PRODID:-//ChamberMaster//Event Calendar 2.0//EN
METHOD:PUBLISH
X-PUBLISHED-TTL:P3D
REFRESH-INTERVAL:P3D
CALSCALE:GREGORIAN
BEGIN:VEVENT
DTSTART:20230720T150000Z
DTEND:20230720T160000Z
X-MICROSOFT-CDO-ALLDAYEVENT:FALSE
SUMMARY:How to navigate your Member Information Center
DESCRIPTION:Have you wondered how to get the most out of your Member Directory Listing but aren't sure how to maximize your listing? Then you want to attend our training session on Thursday\, July 20th at 11:00 am.\n\n \n\nThe Chamber's Administrative Coordinator\, Dawn Hipsley\, will be showing you how to navigate your Member Information Center via Zoom. Learn how to upload multiple images and a video to your listing\, along with company highlights\, contact/representative information\, and more!\n\n \n\nSend as many representatives from your company to learn about the back office as you like. Anyone with a log-in can optimize your listing.
X-ALT-DESC;FMTTYPE=text/html:<p style="margin: 0px\; padding: 0px\; color: rgb(64\, 63\, 66)\; font-family: Arial\, Verdana\, Helvetica\, sans-serif\; font-size: 14px\; white-space-collapse: preserve\;">Have you wondered how to get the most out of your Member Directory Listing but aren&#39\;t sure how to maximize your listing? Then you want to attend our training session on Thursday\, July 20th at 11:00 am.</p>\n\n<p style="margin: 0px\; padding: 0px\; color: rgb(64\, 63\, 66)\; font-family: Arial\, Verdana\, Helvetica\, sans-serif\; font-size: 14px\; white-space-collapse: preserve\;">&nbsp\;</p>\n\n<p style="margin: 0px\; padding: 0px\; color: rgb(64\, 63\, 66)\; font-family: Arial\, Verdana\, Helvetica\, sans-serif\; font-size: 14px\; white-space-collapse: preserve\;">The Chamber&#39\;s Administrative Coordinator\, Dawn Hipsley\, will be showing you how to navigate your Member Information Center via Zoom. Learn how to upload multiple images and a video to your listing\, along with company highlights\, contact/representative information\, and more!</p>\n\n<p style="margin: 0px\; padding: 0px\; color: rgb(64\, 63\, 66)\; font-family: Arial\, Verdana\, Helvetica\, sans-serif\; font-size: 14px\; white-space-collapse: preserve\;">&nbsp\;</p>\n\n<p style="margin: 0px\; padding: 0px\; color: rgb(64\, 63\, 66)\; font-family: Arial\, Verdana\, Helvetica\, sans-serif\; font-size: 14px\; white-space-collapse: preserve\;">Send as many representatives from your company to learn about the back office as you like. Anyone with a log-in can optimize your listing.</p>\n
LOCATION:Via Zoom
UID:e.797.16985
SEQUENCE:3
DTSTAMP:20260422T122821Z
URL:https://business.rockvillechamber.org/events/details/how-to-navigate-your-member-information-center-16985
END:VEVENT

END:VCALENDAR
