BEGIN:VCALENDAR
VERSION:2.0
PRODID:-//ChamberMaster//Event Calendar 2.0//EN
METHOD:PUBLISH
X-PUBLISHED-TTL:P3D
REFRESH-INTERVAL:P3D
CALSCALE:GREGORIAN
BEGIN:VEVENT
DTSTART:20230620T140000Z
DTEND:20230620T150000Z
X-MICROSOFT-CDO-ALLDAYEVENT:FALSE
SUMMARY:How to navigate your Member Information Center
DESCRIPTION:Learn how to navigate your Member Information Center (your Chamber back office) with our Administrative Coordinator\, Dawn Hipsley.\n\n\n\nCan't make this one?  Join us virtually on July 20th!
X-ALT-DESC;FMTTYPE=text/html:Learn how to navigate your Member Information Center (your Chamber back office) with our Administrative Coordinator\, Dawn Hipsley.<br />\n<br />\nCan&#39\;t make this one?&nbsp\; Join us virtually on July 20th!<br />\n<br />\n&nbsp\;
LOCATION:Immediately following the New Member Orientation on June 20th in the 3rd-floor conference room at 1 Research Blvd.
UID:e.797.16984
SEQUENCE:3
DTSTAMP:20260422T122822Z
URL:https://business.rockvillechamber.org/events/details/how-to-navigate-your-member-information-center-16984
END:VEVENT

END:VCALENDAR
