BEGIN:VCALENDAR
VERSION:2.0
PRODID:-//ChamberMaster//Event Calendar 2.0//EN
METHOD:PUBLISH
X-PUBLISHED-TTL:P3D
REFRESH-INTERVAL:P3D
CALSCALE:GREGORIAN
BEGIN:VEVENT
DTSTART:20221215T223000Z
DTEND:20221216T003000Z
X-MICROSOFT-CDO-ALLDAYEVENT:FALSE
SUMMARY:Holiday Party at the Hilton Atrium
DESCRIPTION:Join us for our Annual Holiday Party on 12/15.  We will get the opportunity to celebrate the season with members and friends.  We will also:\n\n\n	Vote for the 2023 Board of Directors\n	Buy your last-minute gift from Our Gift Biz\n	Bring an unwrapped toy for Community Reach annual toy drive\n	Bring your holiday spirit\, dress up if you want\, enjoy great food\, drink (1 drink included with admission price)\, and network with your fellow business members.\n	Start the new year right\, with a new headshot by ACB Photography (discounted rate for Chamber members)\,\n\n\n\n\nThe air is getting colder\,\n\nthe holidays are near.\n\nIt's a time for celebration\n\nwith those\, we hold so dear!\n\n\n\nThe Greater Rockville Chamber of Commerce\n\ncordially invites you to join us\n\nfor a holiday celebration\n\non Thursday\, the fifteenth of December\n\nfrom 5:30 - 7:30 pm\n\nHilton Washington DC/Rockville Hotel & Executive Meeting Center\n\n1750 Rockville Pike\,\n\nRockville\, MD\, 20852
X-ALT-DESC;FMTTYPE=text/html:<p><span style="font-size:16px\;"><span style="font-family:comic sans ms\;"><span style="text-align: center\;">Join us for our Annual Holiday Party on 12/15.&nbsp\; We will get the opportunity to celebrate the season with members and friends.&nbsp\; We will also:</span></span></span></p>\n\n<ul>\n	<li style="margin-left: 15px\; color: rgb(34\, 34\, 34)\; font-family: Arial\, Helvetica\, sans-serif\; font-size: small\;"><span style="font-size:16px\;"><span style="font-family:comic sans ms\;">Vote for the 2023 Board of Directors</span></span></li>\n	<li style="margin-left: 15px\; color: rgb(34\, 34\, 34)\; font-family: Arial\, Helvetica\, sans-serif\; font-size: small\;"><span style="font-size:16px\;"><span style="font-family:comic sans ms\;">Buy your last-minute gift from Our Gift Biz</span></span></li>\n	<li style="margin-left: 15px\; color: rgb(34\, 34\, 34)\; font-family: Arial\, Helvetica\, sans-serif\; font-size: small\;"><span style="font-size:16px\;"><span style="font-family:comic sans ms\;">Bring an unwrapped toy for Community Reach annual toy drive</span></span></li>\n	<li style="margin-left: 15px\; color: rgb(34\, 34\, 34)\; font-family: Arial\, Helvetica\, sans-serif\; font-size: small\;"><span style="font-size:16px\;"><span style="font-family:comic sans ms\;">Bring your holiday spirit\, dress up if you want\, enjoy great food\,&nbsp\;drink (1&nbsp\;drink&nbsp\;included with admission price)\,&nbsp\;and network with your fellow business members.</span></span></li>\n	<li style="margin-left: 15px\; color: rgb(34\, 34\, 34)\; font-family: Arial\, Helvetica\, sans-serif\; font-size: small\;"><span style="font-size:16px\;"><span style="font-family:comic sans ms\;">Start the new year right\, with a new headshot by ACB Photography (discounted rate for Chamber members)\,</span></span></li>\n</ul>\n\n<p><br />\n<span style="font-size:16px\;"><span style="font-family:comic sans ms\;"><span style="text-align: center\;">The air is getting colder\,</span><br style="color: rgb(97\, 96\, 96)\; font-family: avenir-lt-w01_35-light1475496\, avenir-lt-w05_35-light\, sans-serif\; font-size: 14px\; text-align: center\;" />\n<span style="text-align: center\;">the holidays are near.</span><br style="color: rgb(97\, 96\, 96)\; font-family: avenir-lt-w01_35-light1475496\, avenir-lt-w05_35-light\, sans-serif\; font-size: 14px\; text-align: center\;" />\n<span style="text-align: center\;">It&rsquo\;s a time for celebration</span><br style="color: rgb(97\, 96\, 96)\; font-family: avenir-lt-w01_35-light1475496\, avenir-lt-w05_35-light\, sans-serif\; font-size: 14px\; text-align: center\;" />\n<span style="text-align: center\;">with those\, we hold so dear!</span><br style="color: rgb(97\, 96\, 96)\; font-family: avenir-lt-w01_35-light1475496\, avenir-lt-w05_35-light\, sans-serif\; font-size: 14px\; text-align: center\;" />\n<br style="color: rgb(97\, 96\, 96)\; font-family: avenir-lt-w01_35-light1475496\, avenir-lt-w05_35-light\, sans-serif\; font-size: 14px\; text-align: center\;" />\n<span style="text-align: center\;">The Greater Rockville Chamber of Commerce</span><br style="color: rgb(97\, 96\, 96)\; font-family: avenir-lt-w01_35-light1475496\, avenir-lt-w05_35-light\, sans-serif\; font-size: 14px\; text-align: center\;" />\n<span style="text-align: center\;">cordially invites you to join us<br />\nfor a holiday&nbsp\;</span><span style="text-align: center\;">celebration</span><br style="color: rgb(97\, 96\, 96)\; font-family: avenir-lt-w01_35-light1475496\, avenir-lt-w05_35-light\, sans-serif\; font-size: 14px\; text-align: center\;" />\n<span style="text-align: center\;">on Thursday\, the fifteenth of December</span><br style="color: rgb(97\, 96\, 96)\; font-family: avenir-lt-w01_35-light1475496\, avenir-lt-w05_35-light\, sans-serif\; font-size: 14px\; text-align: center\;" />\n<span style="text-align: center\;">from 5:30 - 7:30 pm</span><br />\nHilton Washington DC/Rockville Hotel &amp\; Executive Meeting Center<br />\n1750 Rockville Pike\,<br />\nRockville\, MD\, 20852</span></span></p>\n
LOCATION:Hilton Washington DC/Rockville Hotel & Executive Meeting Center 1750 Rockville Pike\, Rockville\, MD\, 20852
UID:e.797.16159
SEQUENCE:3
DTSTAMP:20260424T080507Z
URL:https://business.rockvillechamber.org/events/details/holiday-party-at-the-hilton-atrium-16159
END:VEVENT

END:VCALENDAR
