BEGIN:VCALENDAR
VERSION:2.0
PRODID:-//ChamberMaster//Event Calendar 2.0//EN
METHOD:PUBLISH
X-PUBLISHED-TTL:P3D
REFRESH-INTERVAL:P3D
CALSCALE:GREGORIAN
BEGIN:VEVENT
DTSTART:20250218T163000Z
DTEND:20250218T170000Z
X-MICROSOFT-CDO-ALLDAYEVENT:FALSE
SUMMARY:"Heart Healthy Lifestyle" Presentation
DESCRIPTION:Join Us for a Heart-Healthy Lifestyle Presentation!\n\n\n\nTake charge of your heart health with expert insights from Steve Lorberbaum at this informative session! Learn simple yet effective ways to maintain a healthy heart and active lifestyle.\n\n\n\nTuesday\, Feb 18\n\n11:30 AM\n\n5 Star Premier Senior Living   8100 Connecticut Ave\, Chevy Chase\, MD 20815\n\nRSVP: pdubroof@assistinghands.com\n\n\n\nEmpower yourself with knowledge and practical tips for better heart health!
X-ALT-DESC;FMTTYPE=text/html:<span style="font-family:arial\; font-size:10pt">Join Us for a Heart-Healthy Lifestyle Presentation!<br />\n<br />\nTake charge of your heart health with expert insights from Steve Lorberbaum at this informative session! Learn simple yet effective ways to maintain a healthy heart and active lifestyle.<br />\n<br />\nTuesday\, Feb 18<br />\n11:30 AM<br />\n5 Star Premier Senior Living &ndash\; 8100 Connecticut Ave\, Chevy Chase\, MD 20815<br />\nRSVP: pdubroof@assistinghands.com<br />\n<br />\nEmpower yourself with knowledge and practical tips for better heart health!&nbsp\;</span>
LOCATION:5 Star Premier Senior Living 8100 Connecticut Ave Chevy Chase\, MD 20815
UID:e.797.24778
SEQUENCE:3
DTSTAMP:20260423T205611Z
URL:https://business.rockvillechamber.org/events/details/heart-healthy-lifestyle-presentation-24778
END:VEVENT

END:VCALENDAR
