BEGIN:VCALENDAR
VERSION:2.0
PRODID:-//ChamberMaster//Event Calendar 2.0//EN
METHOD:PUBLISH
X-PUBLISHED-TTL:P3D
REFRESH-INTERVAL:P3D
CALSCALE:GREGORIAN
BEGIN:VEVENT
DTSTART:20230818T210000Z
DTEND:20230819T010000Z
X-MICROSOFT-CDO-ALLDAYEVENT:FALSE
SUMMARY:Happy Hour in our new restaurant\, Bogart's
DESCRIPTION:Treat your office\, friends\, and families with happy our in our new restaurant\, Bogart's.
X-ALT-DESC;FMTTYPE=text/html:Treat your office\, friends\, and families with happy our in our new restaurant\, Bogart's.
LOCATION:1251 W Montgomery Ave Rockville\, MD 20850
UID:e.797.18846
SEQUENCE:3
DTSTAMP:20260422T142657Z
URL:https://business.rockvillechamber.org/events/details/happy-hour-in-our-new-restaurant-bogart-s-08-18-2023-18846
END:VEVENT

END:VCALENDAR
