BEGIN:VCALENDAR
VERSION:2.0
PRODID:-//ChamberMaster//Event Calendar 2.0//EN
METHOD:PUBLISH
X-PUBLISHED-TTL:P3D
REFRESH-INTERVAL:P3D
CALSCALE:GREGORIAN
BEGIN:VEVENT
DTSTART:20250226T223000Z
DTEND:20250226T233000Z
X-MICROSOFT-CDO-ALLDAYEVENT:FALSE
SUMMARY:GRCC Board Meeting
DESCRIPTION:The Greater Rockville Chamber of Commerce Board Meeting happens on the 4th Wednesday of each month at the Chamber office. Please note that this meeting is for board members only and is not open to the public. We look forward to productive discussions as we continue to serve our members and the community
X-ALT-DESC;FMTTYPE=text/html:The Greater Rockville Chamber of Commerce Board Meeting happens on the 4th Wednesday of each month at the Chamber office. Please note that this meeting is for board members only and is not open to the public. We look forward to productive discussions as we continue to serve our members and the community
LOCATION:GRCC Office
UID:e.797.24685
SEQUENCE:3
DTSTAMP:20260423T205426Z
URL:https://business.rockvillechamber.org/events/details/grcc-board-meeting-02-26-2025-24685
END:VEVENT

END:VCALENDAR
