BEGIN:VCALENDAR
VERSION:2.0
PRODID:-//ChamberMaster//Event Calendar 2.0//EN
METHOD:PUBLISH
X-PUBLISHED-TTL:P3D
REFRESH-INTERVAL:P3D
CALSCALE:GREGORIAN
BEGIN:VEVENT
DTSTART:20250501T130000Z
DTEND:20250501T180000Z
X-MICROSOFT-CDO-ALLDAYEVENT:FALSE
SUMMARY:Gaithersburg Active Aging Expo
DESCRIPTION:Join us at Bohrer Park for another great event! Meet organizations that help you age well in our community. Say Hello to the Assisting Hands team at our table.
X-ALT-DESC;FMTTYPE=text/html:<span style="background-color:rgb(255\, 254\, 254)\; color:rgb(6\, 18\, 34)\; font-family:jost\,sans-serif\; font-size:20px">Join us at Bohrer Park for another great event! Meet organizations that help you age well in our community. Say Hello to the Assisting Hands team at our table.</span>
LOCATION:Bohrer Park- 506 South Frederick Avenue\, Gaithersburg\, MD 20877
UID:e.797.25384
SEQUENCE:3
DTSTAMP:20260423T204956Z
URL:https://business.rockvillechamber.org/events/details/gaithersburg-active-aging-expo-25384
END:VEVENT

END:VCALENDAR
