BEGIN:VCALENDAR
VERSION:2.0
PRODID:-//ChamberMaster//Event Calendar 2.0//EN
METHOD:PUBLISH
X-PUBLISHED-TTL:P3D
REFRESH-INTERVAL:P3D
CALSCALE:GREGORIAN
BEGIN:VEVENT
DTSTART:20220615T040000Z
DTEND:20220615T040000Z
X-MICROSOFT-CDO-ALLDAYEVENT:FALSE
SUMMARY:Free Artist in Residence Workshops
DESCRIPTION:Enjoy free workshops with Strathmore's Artist in Residence Class of 2022!\n\nJAMES FERNANDO - WORKSHOP WED JANUARY 12 | 7:30PM\n\nLANGSTON HUGHES II - WORKSHOP WED FEBRUARY 16 | 7:30PM\n\nTITILAYO AYANGADE - WORKSHOP WED MARCH 16 | 7:30PM \n\nALEX HAMBURGER - WORKSHOP WED APRIL 20 | 7:30PM\n\nTAISHA ESTRADA - WORKSHOP WED MAY 18 | 7:30PM\n\nGERSON LANZA - WORKSHOP WED JUNE 15 | 7:30PM
X-ALT-DESC;FMTTYPE=text/html:<p>Enjoy free workshops with Strathmore&#39\;s Artist in Residence Class of 2022!</p>\n\n<p>JAMES FERNANDO -&nbsp\;<strong><a href="https://www.strathmore.org/what-s-on/21-22-strathmore-season/air-workshop-james-fernando/">WORKSHOP WED JANUARY 12 | 7:30PM</a></strong></p>\n\n<p>LANGSTON HUGHES II -&nbsp\;<strong><a href="https://www.strathmore.org/what-s-on/21-22-strathmore-season/air-workshop-langston-hughes-ii/">WORKSHOP WED FEBRUARY 16 | 7:30PM</a></strong></p>\n\n<p>TITILAYO AYANGADE -&nbsp\;<strong><a href="https://www.strathmore.org/what-s-on/21-22-strathmore-season/air-workshop-titilayo-ayangade/">WORKSHOP WED MARCH 16 | 7:30PM&nbsp\;</a></strong></p>\n\n<p>ALEX HAMBURGER -&nbsp\;<strong><a href="https://www.strathmore.org/what-s-on/21-22-strathmore-season/air-workshop-alex-hamburger/">WORKSHOP WED APRIL 20 | 7:30PM</a></strong></p>\n\n<p>TAISHA ESTRADA -&nbsp\;<strong><a href="https://www.strathmore.org/what-s-on/21-22-strathmore-season/air-workshop-taisha-estrada/">WORKSHOP WED MAY 18 | 7:30PM</a></strong></p>\n\n<p>GERSON LANZA -&nbsp\;<strong><a href="https://www.strathmore.org/what-s-on/21-22-strathmore-season/air-workshop-gerson-lanza/">WORKSHOP WED JUNE 15 | 7:30PM</a></strong></p>\n
LOCATION:The Mansion at Strathmore
UID:e.797.16120
SEQUENCE:3
DTSTAMP:20260423T160007Z
URL:https://business.rockvillechamber.org/events/details/free-artist-in-residence-workshops-06-15-2022-16120
END:VEVENT

END:VCALENDAR
