BEGIN:VCALENDAR
VERSION:2.0
PRODID:-//ChamberMaster//Event Calendar 2.0//EN
METHOD:PUBLISH
X-PUBLISHED-TTL:P3D
REFRESH-INTERVAL:P3D
CALSCALE:GREGORIAN
BEGIN:VEVENT
DTSTART:20230914T223000Z
DTEND:20230915T003000Z
X-MICROSOFT-CDO-ALLDAYEVENT:FALSE
SUMMARY:Fogo de Chao National Caipirinha Day
DESCRIPTION:Join us at Bar Fogo to celebrate the national cocktail of Brazil with your favorite handcrafted caipirinha flavors. Enjoy your choice of Traditional\, Strawberry Hibiscus\, Mango Habanero\, or Passionate crafted with your choice of silver or gold cacha a. Experience these flavors alongside mouthwatering Brazilian Empanadas\, Queijo Assado\, and more. Let's celebrate.\n\n\n\nINCLUDES TWO PREMIUM CAIPIRINHAS AND PASSED BAR BITES\n\n$29 per person*\n\ntax and gratuity not included\n\nWHEN\n\nThursday\, September 14 at 6:30pm   8:30pm**
X-ALT-DESC;FMTTYPE=text/html:<h3 style="text-align:center"><span style="font-family:mrseavesxlserifot-reg\; font-size:15px">Join us at Bar Fogo to celebrate the national cocktail of Brazil with your favorite handcrafted caipirinha flavors. Enjoy your choice of Traditional\, Strawberry Hibiscus\, Mango Habanero\, or Passionate&mdash\;crafted with your choice of silver or gold cacha&ccedil\;a. Experience these flavors alongside mouthwatering Brazilian Empanadas\, Queijo Assado\, and more. Let&#39\;s celebrate.</span><br />\n<br />\n<span style="font-family:inherit\; font-size:15px">INCLUDES TWO PREMIUM CAIPIRINHAS AND PASSED BAR BITES</span></h3>\n\n<h2 style="text-align:center"><span style="font-family:inherit\; font-size:40px">$29&nbsp\;</span>per person*</h2>\n\n<h3 style="color:rgb(134\, 117\, 66)\; font-style:italic\; text-align:center">tax and gratuity not included</h3>\n\n<p style="text-align:center"><span style="font-family:inherit\; font-size:inherit">WHEN</span></p>\n\n<p style="text-align:center">Thursday\, September 14 at 6:30pm &ndash\; 8:30pm**</p>\n
LOCATION:Fogo de Chao Bethesda 11600 Old Georgetown Rd. Bethesda MD\, 20852
UID:e.797.18899
SEQUENCE:3
DTSTAMP:20260422T181524Z
URL:https://business.rockvillechamber.org/events/details/fogo-de-chao-national-caipirinha-day-18899
END:VEVENT

END:VCALENDAR
