BEGIN:VCALENDAR
VERSION:2.0
PRODID:-//ChamberMaster//Event Calendar 2.0//EN
METHOD:PUBLISH
X-PUBLISHED-TTL:P3D
REFRESH-INTERVAL:P3D
CALSCALE:GREGORIAN
BEGIN:VEVENT
DTSTART:20230819T130000Z
DTEND:20230819T190000Z
X-MICROSOFT-CDO-ALLDAYEVENT:FALSE
SUMMARY:Financial Planning Day
DESCRIPTION:Financial Planning Day is a free\, Community event on Saturday\, August 19 at the Silver Spring Civic Center from 9am to 3pm.\n\nJoin us for a day of one on one coaching sessions with a CFP  Professional.\n\nWe will also feature a series of classroom-educational workshops including:\n\nBudgeting/Debt Management\n\nStudent Loans/College Planning\n\nRetirement/Social Security/Medicare\n\nWomen\, Wealth and Well being\n\nThis event is sponsored by the Financial Planning Association.\n\nTo register or for more information\, go to:\n\nhttps://www.financialplanningassociation.org/event/financial-planning-day
X-ALT-DESC;FMTTYPE=text/html:<p><span style="color:black">Financial Planning Day is a free\, Community event on Saturday\, August 19 at the Silver Spring Civic Center from 9am to 3pm.</span></p>\n\n<p><span style="color:black">Join us for a day of one on one coaching sessions with a CFP<strong>&reg\; </strong>Professional.</span></p>\n\n<p style="text-align:start"><span style="color:black">We will also feature a series of classroom-educational workshops including:</span></p>\n\n<p style="text-align:start"><span style="color:black">Budgeting/Debt Management</span></p>\n\n<p style="text-align:start"><span style="color:black">Student Loans/College Planning</span></p>\n\n<p style="text-align:start"><span style="color:black">Retirement/Social Security/Medicare</span></p>\n\n<p><span style="color:black">Women\, Wealth and Well being</span></p>\n\n<p><span style="color:black">This event is sponsored by the Financial Planning Association.</span></p>\n\n<p><span style="color:black">To register or for more information\, go to:</span></p>\n\n<p><span style="color:#151945\; font-family:barlow"><a href="https://urldefense.com/v3/__https:/www.financialplanningassociation.org/event/financial-planning-day__\;!!I3aYXY1LRCpsEA!ZnommeCN--4owl3PBQsD2ShryAZZRzzE3CEl_uVUpJpyLtTObsQF-ao9zhhMrDEsGjU6XhuFHe1kIW10EMRxVHp9$" target="_blank">https://www.financialplanningassociation.org/event/financial-planning-day</a></span></p>\n
LOCATION:Silver Spring Civic Center
UID:e.797.18866
SEQUENCE:3
DTSTAMP:20260422T142029Z
URL:https://business.rockvillechamber.org/events/details/financial-planning-day-18866
END:VEVENT

END:VCALENDAR
