BEGIN:VCALENDAR
VERSION:2.0
PRODID:-//ChamberMaster//Event Calendar 2.0//EN
METHOD:PUBLISH
X-PUBLISHED-TTL:P3D
REFRESH-INTERVAL:P3D
CALSCALE:GREGORIAN
BEGIN:VEVENT
DTSTART;VALUE=DATE:20250601
DTEND;VALUE=DATE:20250615
TRANSP:TRANSPARENT
X-MICROSOFT-CDO-ALLDAYEVENT:TRUE
SUMMARY:Explore Rockville: Global Bites 2025
DESCRIPTION:From June 1 to June 14\, Explore Rockville: Global Bites invites residents and visitors to experience Rockville's diverse dining scene through a citywide restaurant week. Organized by Rockville Economic Development\, Inc. (REDI)\, Global Bites is a celebration of culture\, cuisine\, and community impact.\n\n\n\nFrom sushi to shawarma\, tacos to tikka masala\, Global Bites celebrates the rich cultural diversity found in Rockville through its restaurants. There are no sign-ups or special menus   just visit any restaurant in the city during the promotion\, upload your receipt online\, and you're automatically entered to win one of three VISA gift cards valued at $50\, $100 or $200. And that's not all   20% of your receipt (up to $20) will be donated to local nonprofits participating in the Rockville Rewards program.
X-ALT-DESC;FMTTYPE=text/html:From June 1 to June 14\, Explore Rockville: Global Bites invites residents and visitors to experience Rockville&rsquo\;s diverse dining scene through a citywide restaurant week. Organized by Rockville Economic Development\, Inc. (REDI)\, Global Bites is a celebration of culture\, cuisine\, and community impact.<br />\n<br />\nFrom sushi to shawarma\, tacos to tikka masala\, Global Bites celebrates the rich cultural diversity found in Rockville through its restaurants. There are no sign-ups or special menus &ndash\; just visit any restaurant in the city during the promotion\, upload your receipt online\, and you&rsquo\;re automatically entered to win one of three VISA gift cards valued at $50\, $100 or $200. And that&rsquo\;s not all &ndash\; 20% of your receipt (up to $20) will be donated to local nonprofits participating in the Rockville Rewards program.<br />\n<br />\n&nbsp\;
LOCATION:
UID:e.797.25435
SEQUENCE:3
DTSTAMP:20260423T225429Z
URL:https://business.rockvillechamber.org/events/details/explore-rockville-global-bites-2025-25435
END:VEVENT

END:VCALENDAR
