BEGIN:VCALENDAR
VERSION:2.0
PRODID:-//ChamberMaster//Event Calendar 2.0//EN
METHOD:PUBLISH
X-PUBLISHED-TTL:P3D
REFRESH-INTERVAL:P3D
CALSCALE:GREGORIAN
BEGIN:VEVENT
DTSTART:20230926T180000Z
DTEND:20230926T193000Z
X-MICROSOFT-CDO-ALLDAYEVENT:FALSE
SUMMARY:Election Candidates - Televised Debate/Forum
DESCRIPTION:Mayor and Council candidates in the 2023 City of Rockville election participate in a debate during a forum presented by the Greater Rockville Chamber of Commerce
X-ALT-DESC;FMTTYPE=text/html:<span style="color: rgb(19\, 19\, 19)\; font-family: Roboto\, Arial\, sans-serif\; font-size: 14px\; white-space-collapse: preserve\;">Mayor and Council candidates in the 2023 City of Rockville election participate in a debate during a forum presented by the Greater Rockville Chamber of Commerce</span>
LOCATION:Thomas Farm Community Center Gymnasium or Multi-Purpose Room 700 Fallsgrove Dr Rockville\, MD 20850
UID:e.797.18873
SEQUENCE:3
DTSTAMP:20260422T162447Z
URL:https://business.rockvillechamber.org/events/details/election-candidates-televised-debate-forum-18873
END:VEVENT

END:VCALENDAR
