BEGIN:VCALENDAR
VERSION:2.0
PRODID:-//ChamberMaster//Event Calendar 2.0//EN
METHOD:PUBLISH
X-PUBLISHED-TTL:P3D
REFRESH-INTERVAL:P3D
CALSCALE:GREGORIAN
BEGIN:VEVENT
DTSTART:20250305T140000Z
DTEND:20250305T170000Z
X-MICROSOFT-CDO-ALLDAYEVENT:FALSE
SUMMARY:DPS Stakeholders Forum
DESCRIPTION:The Montgomery County Department of Permitting Services (DPS) Stakeholders Forum is now set for Wednesday\, March 5. Doors open at 8:30 a.m. with light refreshments served. The forum will feature guest speakers from other County departments and agencies and opening remarks from Montgomery County Executive Marc Elrich. Following the general session\, DPS division leaders will host breakout sessions covering various topics related to permitting in Montgomery County. These sessions will allow stakeholders to converse with DPS subject-matter experts in their respective fields and provide feedback. Seating is limited - Please register using the link\n\nEnglish: https://forms.office.com/g/g3jNNj6zv9
X-ALT-DESC;FMTTYPE=text/html:The Montgomery County Department of Permitting Services (DPS) Stakeholders Forum is now set for Wednesday\, March 5. Doors open at 8:30 a.m. with light refreshments served. The forum will feature guest speakers from other County departments and agencies and opening remarks from Montgomery County Executive Marc Elrich. Following the general session\, DPS division leaders will host breakout sessions covering various topics related to permitting in Montgomery County. These sessions will allow stakeholders to converse with DPS subject-matter experts in their respective fields and provide feedback. Seating is limited - Please register using the link<br />\n<b style="color: rgb(34\, 34\, 34)\; font-family: Arial\, Helvetica\, sans-serif\; font-size: small\; text-align: center\;"><span style="font-size: 12pt\; line-height: 24px\; font-family: Barlow\;">English:&nbsp\;</span></b><span style="color: rgb(34\, 34\, 34)\; text-align: center\; font-size: 12pt\; line-height: 24px\; font-family: Barlow\;"><a data-saferedirecturl="https://www.google.com/url?q=https://forms.office.com/g/g3jNNj6zv9&amp\;source=gmail&amp\;ust=1739898534528000&amp\;usg=AOvVaw00GRuyE8BlOwouuJKKZSmq" href="https://forms.office.com/g/g3jNNj6zv9" style="color: rgb(17\, 85\, 204)\;" target="_blank"><b>https://forms.office.com/g/<wbr />g3jNNj6zv9</b></a></span>
LOCATION:M-NCPPC Auditorium 2425 Reedie Drive Wheaton\, MD20902
UID:e.797.24784
SEQUENCE:3
DTSTAMP:20260423T132211Z
URL:https://business.rockvillechamber.org/events/details/dps-stakeholders-forum-24784
END:VEVENT

END:VCALENDAR
