BEGIN:VCALENDAR
VERSION:2.0
PRODID:-//ChamberMaster//Event Calendar 2.0//EN
METHOD:PUBLISH
X-PUBLISHED-TTL:P3D
REFRESH-INTERVAL:P3D
CALSCALE:GREGORIAN
BEGIN:VEVENT
DTSTART:20230523T230000Z
DTEND:20230524T000000Z
X-MICROSOFT-CDO-ALLDAYEVENT:FALSE
SUMMARY:Death Café
DESCRIPTION:Death Cafe is a national movement providing a place to hold a conversation about death with "a view to helping people make the most of their (finite) lives." Please view this 2-minute introduction to Death Cafe events.
X-ALT-DESC;FMTTYPE=text/html:Death Cafe is a national movement providing a place to hold a conversation about death with &ldquo\;a view to helping people make the most of their (finite) lives.&rdquo\; Please view this 2-minute introduction to Death Cafe events.
LOCATION:This and all future events sponsored by Assisting Hands Home Care\, Potomac will be held virtually via Zoom until further notice. Please register for this event by going to our website and signing up directly through our events page\, located near the bottom left of our home page. (https://www.assistinghands.com/37/maryland/potomac/) A link will be sent to each participant on the morning of the event.
UID:e.797.16975
SEQUENCE:3
DTSTAMP:20260422T105206Z
URL:https://business.rockvillechamber.org/events/details/death-caf&#233;-05-23-2023-16975
END:VEVENT

END:VCALENDAR
