BEGIN:VCALENDAR
VERSION:2.0
PRODID:-//ChamberMaster//Event Calendar 2.0//EN
METHOD:PUBLISH
X-PUBLISHED-TTL:P3D
REFRESH-INTERVAL:P3D
CALSCALE:GREGORIAN
BEGIN:VEVENT
DTSTART:20250425T190000Z
DTEND:20250425T200000Z
X-MICROSOFT-CDO-ALLDAYEVENT:FALSE
SUMMARY:Death Café
DESCRIPTION:Join Patricia Dubroof for a facilitated open\n\ndiscussion which provides a safe space to explore\n\nand share thoughts on end-of-life topics. This is a\n\nmonthly group   new members welcome!
X-ALT-DESC;FMTTYPE=text/html:<span style="background-color:rgb(255\, 254\, 254)\; color:rgb(7\, 7\, 7)\; font-family:compasssans\; font-size:18px">Join Patricia Dubroof for a facilitated open</span><br />\n<span style="background-color:rgb(255\, 254\, 254)\; color:rgb(7\, 7\, 7)\; font-family:compasssans\; font-size:18px">discussion which provides a safe space to explore</span><br />\n<span style="background-color:rgb(255\, 254\, 254)\; color:rgb(7\, 7\, 7)\; font-family:compasssans\; font-size:18px">and share thoughts on end-of-life topics. This is a</span><br />\n<span style="background-color:rgb(255\, 254\, 254)\; color:rgb(7\, 7\, 7)\; font-family:compasssans\; font-size:18px">monthly group &ndash\; new members welcome!</span>
LOCATION:This and all future events sponsored by Assisting Hands Home Care\, Potomac will be held virtually via Zoom until further notice. Please register for this event by going to our website and signing up directly through our events page\, located near the bottom left of our home page. (www.assistinghandspotomac.com ) A link will be sent to each participant on the morning of the event.
UID:e.797.25380
SEQUENCE:3
DTSTAMP:20260423T205343Z
URL:https://business.rockvillechamber.org/events/details/death-caf&#233;-04-25-2025-25380
END:VEVENT

END:VCALENDAR
