BEGIN:VCALENDAR
VERSION:2.0
PRODID:-//ChamberMaster//Event Calendar 2.0//EN
METHOD:PUBLISH
X-PUBLISHED-TTL:P3D
REFRESH-INTERVAL:P3D
CALSCALE:GREGORIAN
BEGIN:VEVENT
DTSTART:20250219T000000Z
DTEND:20250219T010000Z
X-MICROSOFT-CDO-ALLDAYEVENT:FALSE
SUMMARY:Death Café
DESCRIPTION:Join the Conversation at Death Caf  on ZOOM\n\n\n\nLet's talk about a topic that's often avoided but deeply important end-of-life discussions. Join Patricia Dubroof as she facilitates an open\, respectful\, and enlightening conversation where everyone's thoughts and experiences are welcome.\n\n\n\nDate: Tuesday\, Feb 18\, 2025\n\n7:00 PM\n\nLocation: ZOOM\n\nRSVP: pdubroof@assistinghands.com\n\n\n\nBring your questions\, curiosity\, and an open mind. Let's create a space for meaningful dialogue.
X-ALT-DESC;FMTTYPE=text/html:<span style="font-family:arial\; font-size:10pt">Join the Conversation at Death Caf&eacute\; on ZOOM<br />\n<br />\nLet&rsquo\;s talk about a topic that&rsquo\;s often avoided but deeply important&mdash\;end-of-life discussions. Join Patricia Dubroof as she facilitates an open\, respectful\, and enlightening conversation where everyone&rsquo\;s thoughts and experiences are welcome.<br />\n<br />\nDate: Tuesday\, Feb 18\, 2025<br />\n7:00 PM<br />\nLocation: ZOOM<br />\nRSVP: pdubroof@assistinghands.com<br />\n<br />\nBring your questions\, curiosity\, and an open mind. Let&rsquo\;s create a space for meaningful dialogue.&nbsp\;</span>
LOCATION:This and all future events sponsored by Assisting Hands Home Care\, Potomac will be held virtually via Zoom until further notice. Please register for this event by going to our website and signing up directly through our events page\, located near the bottom left of our home page. (www.assistinghandspotomac.com ) A link will be sent to each participant on the morning of the event.
UID:e.797.24779
SEQUENCE:3
DTSTAMP:20260423T205359Z
URL:https://business.rockvillechamber.org/events/details/death-caf&#233;-02-18-2025-24779
END:VEVENT

END:VCALENDAR
