BEGIN:VCALENDAR
VERSION:2.0
PRODID:-//ChamberMaster//Event Calendar 2.0//EN
METHOD:PUBLISH
X-PUBLISHED-TTL:P3D
REFRESH-INTERVAL:P3D
CALSCALE:GREGORIAN
BEGIN:VEVENT
DTSTART:20221007T160000Z
DTEND:20221007T170000Z
X-MICROSOFT-CDO-ALLDAYEVENT:FALSE
SUMMARY:CutCulture Ribbon-Cutting
DESCRIPTION:Please join us at CutCulture on October 7th to welcome them to the Greater Rockville Chamber of Commerce and our community.
X-ALT-DESC;FMTTYPE=text/html:Please join us at CutCulture on October 7th to welcome them to the Greater Rockville Chamber of Commerce and our community.&nbsp\;
LOCATION:CutCulture 620 Hungerford Drive Rockville\, MD 20850
UID:e.797.16446
SEQUENCE:3
DTSTAMP:20260424T080609Z
URL:https://business.rockvillechamber.org/events/details/cutculture-ribbon-cutting-16446
END:VEVENT

END:VCALENDAR
