BEGIN:VCALENDAR
VERSION:2.0
PRODID:-//ChamberMaster//Event Calendar 2.0//EN
METHOD:PUBLISH
X-PUBLISHED-TTL:P3D
REFRESH-INTERVAL:P3D
CALSCALE:GREGORIAN
BEGIN:VEVENT
DTSTART:20230802T160000Z
DTEND:20230802T161500Z
X-MICROSOFT-CDO-ALLDAYEVENT:FALSE
SUMMARY:Creativity Booster - Note this is a NEW PROGRAM!!
DESCRIPTION:Chair Yoga explores breath and movement with accessibility in mind.
X-ALT-DESC;FMTTYPE=text/html:Chair Yoga explores breath and movement with accessibility in mind.
LOCATION:This and all future events sponsored by Assisting Hands Home Care\, Potomac will be held virtually via Zoom until further notice. Please register for this event by going to our website and signing up directly through our events page\, located near the bottom left of our home page. (https://www.assistinghands.com/37/maryland/potomac/) A link will be sent to each participant on the morning of the event.
UID:e.797.18834
SEQUENCE:3
DTSTAMP:20260422T141910Z
URL:https://business.rockvillechamber.org/events/details/creativity-booster-note-this-is-a-new-program-08-02-2023-18834
END:VEVENT

END:VCALENDAR
